BEGIN:VCALENDAR
PRODID:NingEventWidget-v1
VERSION:2.0
METHOD:PUBLISH
BEGIN:VTIMEZONE
TZID:Europe/Paris
X-LIC-LOCATION:Europe/Paris
BEGIN:DAYLIGHT
TZOFFSETFROM:+0100
TZOFFSETTO:+0200
TZNAME:CEST
DTSTART:19700329T020000
RRULE:FREQ=YEARLY;BYMONTH=3;BYDAY=-1SU
END:DAYLIGHT
BEGIN:STANDARD
TZOFFSETFROM:+0200
TZOFFSETTO:+0100
TZNAME:CET
DTSTART:19701025T030000
RRULE:FREQ=YEARLY;BYMONTH=10;BYDAY=-1SU
END:STANDARD
END:VTIMEZONE
BEGIN:VEVENT
UID:2485226:Event:2762993
DTSTAMP:20260421T094809Z
SUMMARY:Formation certifiante Access Bars Lyon
DESCRIPTION:Cette méthode s’apprend en une seule journée, dense, m
 ixant théorie et pratique et vous délivre le titre de « Praticien A
 ccess Bars » permettant d’exercer immédiatement.  La Philosophie p
 ratique et pragmatique ACCESS CONSCIOUSNESS® a été développée par
  l’Américain Gary Douglas, La Méthode des Bars est le premier pas 
 pour une approche de vie qui ouvre le champs infini des possibles, ell
 e consiste en l'activation de 32 Points énergétiques sur la tête qu
 i permet de :  -Faciliter la libération des mémoires cellulaires  -P
 roposer des moyens concrets pour co-créer de plus en plus facilement 
 sa réalité  -Activer un processus quantique, énergétique et vibrat
 oire   * Quelles sont les infinies possibilités pour que nous puissio
 ns créer et recevoir plus de joie dans nos vies ? * Ressentez vous le
  besoin de vous libérer des croyances limitantes qui vous encombrent 
 ? * Avez vous l’impression de porter des mémoires qui ne vous appar
 tiennent pas ? * Avez vous envie de libérer de l’espace pour existe
 r plus pleinement, pour déployer la lumière que vous êtes ? * Resse
 ntez vous l’appel vers plus de plénitude, plus de confiance et plus
  d’espace ?  Si oui il y a de fortes chances que ces processus éner
 gétiques qu’on appelle les Bars vous inspirent et vous appellent.  
  FORMATION LES BARS : 32 POINTS ET \"BARRES\"  Elle se déroule sur un
 e journée de 9h à 18h comprenant : Une vidéo : Présentation de Gar
 y Douglas et Dr Dain Heer La théorie : Remise d'un dossier complet av
 ec schémas explicatifs et découverte des principes de base d'Access 
 Consciousness. La pratique : 4 heures minimum : Donner et recevoir deu
 x fois les bars la pause repas : Pause partagée entre 13 h et 14h (ap
 porter son repas)   A QUI S'ADRESSE CETTE JOURNEE ?  A tous ceux qui v
 eulent apprendre ou approfondir cette approche du soin et de l'ouvertu
 re et amorcer un profond changement intérieur et extérieur. A ceux q
 ui veulent la pratiquer sur autrui ou sur eux-mêmes Pas de pré requi
 s.   TARIF JOURNEE DE FORMATION : 270€ (Ces tarifs sont valables pou
 r la France et l'Europe et donnés par Access Consciousness)  LIEU :  
 ERECA, 33 rue Jean Jaures, 69120 Vaulx en Velin à 10 min du Metro Lau
 rent Bonnevay (ligne A) arrêt Aragon - Bus C8   DEVENIR FACILITATEUR 
 (pour transmettre à son tour les bars) :  - Pour devenir facilitateur
 , il est nécessaire de faire 2 autres journées identiques avec des f
 acilitateurs différents. - Les deux autres journées sont à moitié 
 prix (135€ chacune)   \" Tout de la vie vient à moi avec aisance, j
 oie et gloire \" (Mantra access Consciousness)\n\nPour plus d'informat
 ion, aller sur https://epanews.fr/events/formation-certifiante-access-
 bars-lyon-1
DTSTART;TZID=Europe/Paris:20170108T093000
DTEND;TZID=Europe/Paris:20170108T183000
CATEGORIES:69
LOCATION:LYON
WEBSITE:http://www.coaching-energie.fr/formations/formation-access-bar
 s/
URL:http://www.coaching-energie.fr/formations/formation-access-bars/
CONTACT:06 11 04 67 26
ORGANIZER;CN="Severine Musa":https://epanews.fr/profile/SeverineMusa
ATTACH;FMTTYPE="image/jpeg":http://storage.ning.com/topology/rest/1.0/
 file/get/1663631258?profile=original
ATTENDEE;ROLE=REQ-PARTICIPANT;PARTSTAT=ACCEPTED;RSVP=TRUE;CN="Severine
  Musa":https://epanews.fr/profile/SeverineMusa
END:VEVENT
END:VCALENDAR
