BEGIN:VCALENDAR
PRODID:NingEventWidget-v1
VERSION:2.0
METHOD:PUBLISH
BEGIN:VTIMEZONE
TZID:Europe/Paris
X-LIC-LOCATION:Europe/Paris
BEGIN:DAYLIGHT
TZOFFSETFROM:+0100
TZOFFSETTO:+0200
TZNAME:CEST
DTSTART:19700329T020000
RRULE:FREQ=YEARLY;BYMONTH=3;BYDAY=-1SU
END:DAYLIGHT
BEGIN:STANDARD
TZOFFSETFROM:+0200
TZOFFSETTO:+0100
TZNAME:CET
DTSTART:19701025T030000
RRULE:FREQ=YEARLY;BYMONTH=10;BYDAY=-1SU
END:STANDARD
END:VTIMEZONE
BEGIN:VEVENT
UID:2485226:Event:2926937
DTSTAMP:20260421T143250Z
SUMMARY:Formation certifiante Access Bars
DESCRIPTION:\n\nDevenez Praticien Access Bars certifié : Et si une jo
 urnée pouvait changer toute ta vie ? Et si créer de nouvelles possib
 ilités et le bonheur était facile, une fois que tu disposes de la bo
 nne boîte à outils pour changer les choses ? Que sont les Bars d’A
 ccess ? « Les Bars », c’est une technique où on touche des points
 , qui calme le mental, nous rééquilibre et crée de l’aisance, de 
 la paix et une sensation de bien-être similaire à l’effet d’un m
 assage ou de la méditation, mais c’est bien plus que cela.\n\n\n\n\
 n\n\n\n\n\n\n\n\nA quoi ressemble une classe ? ​Une journée. Une to
 nne d’outils.Découverte de l'Access Bars, projection d'une vidéo d
 es fondateurs, remise d'un livret pédagogique, mise en pratique : tu 
 donnes deux fois les bars, tu reçois deux fois les bars. Débriefing 
 et remise des certificats de praticien Access Bars. Dès le lendemain 
 tu peux commencer à exercer.À prendre avec vous : un coussin, un pla
 id et votre plus beau sourire.Une collation vous sera proposé à diff
 érents moments de la journée Important : contactez moi au 07 82 37 9
 2 47 pour réserver votre place (nombre limité) , investissement : 30
 0 euros (moitié prix si vous avez déjà suivi une classe Access bars
  )\n\n\n\n\n\nPour plus d'information, aller sur https://epanews.fr/ev
 ents/formation-certifiante-access-bars-14
DTSTART;TZID=Europe/Paris:20180211T093000
DTEND;TZID=Europe/Paris:20180211T183000
CATEGORIES:75
LOCATION:Espace cocoon
WEBSITE:
URL:
CONTACT:0782379247
ORGANIZER:
ATTACH;FMTTYPE="image/jpeg":http://storage.ning.com/topology/rest/1.0/
 file/get/1663715626?profile=original
ATTENDEE;ROLE=REQ-PARTICIPANT;PARTSTAT=ACCEPTED;RSVP=TRUE;CN=Aurelie:h
 ttps://epanews.fr/profile/Aurelie404
END:VEVENT
END:VCALENDAR
