BEGIN:VCALENDAR
PRODID:NingEventWidget-v1
VERSION:2.0
METHOD:PUBLISH
BEGIN:VTIMEZONE
TZID:Europe/Paris
X-LIC-LOCATION:Europe/Paris
BEGIN:DAYLIGHT
TZOFFSETFROM:+0100
TZOFFSETTO:+0200
TZNAME:CEST
DTSTART:19700329T020000
RRULE:FREQ=YEARLY;BYMONTH=3;BYDAY=-1SU
END:DAYLIGHT
BEGIN:STANDARD
TZOFFSETFROM:+0200
TZOFFSETTO:+0100
TZNAME:CET
DTSTART:19701025T030000
RRULE:FREQ=YEARLY;BYMONTH=10;BYDAY=-1SU
END:STANDARD
END:VTIMEZONE
BEGIN:VEVENT
UID:2485226:Event:2864698
DTSTAMP:20260420T123534Z
SUMMARY:Formation Brain Gym 1
DESCRIPTION:Apprendre,  se concentrer,  mémoriser,  comprendre,  
 créer,  écouter,  s’exprimer devient plus facile.\nChacun  tire
 ra  personnellement  profit  de  cette  formation individuellemen
 t et pourra aussi la proposer à un groupe (classe,équipe sportive…
 ) pour dynamiser les compétences individuelles et instaurer immédiat
 ement un climat propice au travail collectif ou en séance individuell
 e.\n\nPour plus d'information, aller sur https://epanews.fr/events/for
 mation-brain-gym-1
DTSTART;TZID=Europe/Paris:20170930T090000
DTEND;TZID=Europe/Paris:20171001T170000
CATEGORIES:13
LOCATION:Aubagne
WEBSITE:http://kinesiologie-sudest.com
URL:http://kinesiologie-sudest.com
CONTACT:04 42 82 17 57
ORGANIZER;CN="Fred A'KaHuna":https://epanews.fr/profile/FredAKaHuna
ATTACH;FMTTYPE="image/jpeg":http://storage.ning.com/topology/rest/1.0/
 file/get/1663683474?profile=original
ATTENDEE;ROLE=REQ-PARTICIPANT;PARTSTAT=ACCEPTED;RSVP=TRUE;CN="Fred A'K
 aHuna":https://epanews.fr/profile/FredAKaHuna
END:VEVENT
END:VCALENDAR
