BEGIN:VCALENDAR
PRODID:NingEventWidget-v1
VERSION:2.0
METHOD:PUBLISH
BEGIN:VTIMEZONE
TZID:Europe/Paris
X-LIC-LOCATION:Europe/Paris
BEGIN:DAYLIGHT
TZOFFSETFROM:+0100
TZOFFSETTO:+0200
TZNAME:CEST
DTSTART:19700329T020000
RRULE:FREQ=YEARLY;BYMONTH=3;BYDAY=-1SU
END:DAYLIGHT
BEGIN:STANDARD
TZOFFSETFROM:+0200
TZOFFSETTO:+0100
TZNAME:CET
DTSTART:19701025T030000
RRULE:FREQ=YEARLY;BYMONTH=10;BYDAY=-1SU
END:STANDARD
END:VTIMEZONE
BEGIN:VEVENT
UID:2485226:Event:2943580
DTSTAMP:20260425T030445Z
SUMMARY:Formation Bars d'Access Consciousness®
DESCRIPTION:Comment devenir créateur de sa vie sans prise de tête ??
 \nPar un toucher léger sur la tête qui élimine croyances, émotions
 , pensées limitantes, détend, apporte plus de conscience et rend la 
 vie plus joyeuse et légère ...\nAu cours de cette journée vous rega
 rderez une vidéo de Gary Douglas et Dain Heer, les fondateurs d'Acces
 s Consciousness®, donnerez et recevrez 2 séances de Bars et découvr
 irez les outils verbaux d'AC.\nA la fin de la journée, un manuel, des
  planches et des outils verbaux vous seront remis pour allez plus loin
 , si vous le choisissez ... ainsi vous pourrez donner des séances à 
 votre famille, vos amis, des clients ...Quand : le vendredi 23 mars 20
 18 de 9h30à 17h30.Où : LYON 7Tarif : 300€ pour une première journ
 ée, 150€ pour une 2ème, 3ème journée ou jeune de 16 à 18 ans, g
 ratuit jusqu'à 15ans.\nPlus de renseignements ? Inscription ? 06 26 5
 0 03 88\nou par mel : michele.malfroy@gmail.com\n\nPour plus d'informa
 tion, aller sur https://epanews.fr/events/formation-bars-d-access-cons
 ciousness
DTSTART;TZID=Europe/Paris:20180323T000000
DTEND;TZID=Europe/Paris:20180323T235900
CATEGORIES:69
LOCATION:LYON 7
WEBSITE:
URL:
CONTACT:06 26 50 03 88
ORGANIZER:
ATTACH;FMTTYPE="image/jpeg":http://storage.ning.com/topology/rest/1.0/
 file/get/1663727651?profile=original
ATTENDEE;ROLE=REQ-PARTICIPANT;PARTSTAT=ACCEPTED;RSVP=TRUE;CN="Michèle
  MALFROY":https://epanews.fr/profile/MicheleMALFROY
END:VEVENT
END:VCALENDAR
