BEGIN:VCALENDAR
PRODID:NingEventWidget-v1
VERSION:2.0
METHOD:PUBLISH
BEGIN:VTIMEZONE
TZID:Europe/Paris
X-LIC-LOCATION:Europe/Paris
BEGIN:DAYLIGHT
TZOFFSETFROM:+0100
TZOFFSETTO:+0200
TZNAME:CEST
DTSTART:19700329T020000
RRULE:FREQ=YEARLY;BYMONTH=3;BYDAY=-1SU
END:DAYLIGHT
BEGIN:STANDARD
TZOFFSETFROM:+0200
TZOFFSETTO:+0100
TZNAME:CET
DTSTART:19701025T030000
RRULE:FREQ=YEARLY;BYMONTH=10;BYDAY=-1SU
END:STANDARD
END:VTIMEZONE
BEGIN:VEVENT
UID:2485226:Event:2952540
DTSTAMP:20260424T171650Z
SUMMARY:Formation Bars Access Consciousness
DESCRIPTION:Formation d'une journÃ©e de la technique des Bars. C'est u
 n soin Ã©nergÃ©tique qui dÃ©tend aussi bien qu'un bon massage et qui s
 e fait par un toucher au niveau de la tÃªte. Ce sont 32 points qui son
 t activÃ©s et qui ainsi permettent de se libÃ©rer de vieux fichiers qu
 i bloquent notre Ã©panouissement tels les conditionnements, les consid
 Ã©rations, des croyances erronnÃ©es hÃ©ritÃ©es et transmises par ceux 
 qui nous ont Ã©duquÃ©, par la sociÃ©tÃ©... C'est l'occasion d'apprendr
 e une mÃ©thode facile et accessible qui allÃ¨ge la vie et ce dans tous
  les domaines comme l'argent, la santÃ©, la crÃ©ativitÃ©, les relation
 s, la sexualitÃ©, le stress, le sommeil, le poids, et la dÃ©pression.Â
   De cette journÃ©e vous sortirez plus dÃ©tendus, sereinsÂ et certifiÃ
 ©s ! Cette formation est accessible tant aux professionnels de la sant
 Ã© qu'aux personnes dÃ©sireuses d'avancer sur le chemin de vie. Il ne 
 faut aucun prÃ©requis.Â   CoÃ»t de la journÃ©e de formation fixÃ© par 
 Access Consciousness: 300 euros  - 150â‚¬ Ã  partir de la 2Ã¨me journÃ
 ©e pour devenir facilitateur - 150â‚¬ pour les 16 et 17 ans - gratuit 
 pour les moins de 15 ans accompagnÃ©s  Pour plus de renseignements et 
 inscriptions : AuprÃ¨s de Lise 06.84.85.95.34 (mp) lise.bourgin@orange
  .fr (sms)  (PossibilitÃ© de crÃ©er une formation sur demande oÃ¹ que 
 vous soyez)\n\n\nCours sur le bien-Ãªtre\nBien-Ãªtre\n\n\n\nPour plus 
 d'information, aller sur https://epanews.fr/events/formation-bars-acce
 ss-consciousness-2
DTSTART;TZID=Europe/Paris:20180501T093000
DTEND;TZID=Europe/Paris:20180501T183000
CATEGORIES:07
LOCATION:Privas
WEBSITE:
URL:
CONTACT:0684859534
ORGANIZER;CN="Conscience Nomade":https://epanews.fr/profile/MAISAW
ATTACH;FMTTYPE="image/jpeg":http://storage.ning.com/topology/rest/1.0/
 file/get/1663738551?profile=original
ATTENDEE;ROLE=REQ-PARTICIPANT;PARTSTAT=ACCEPTED;RSVP=TRUE;CN="Conscien
 ce Nomade":https://epanews.fr/profile/MAISAW
END:VEVENT
END:VCALENDAR
