BEGIN:VCALENDAR
PRODID:NingEventWidget-v1
VERSION:2.0
METHOD:PUBLISH
BEGIN:VTIMEZONE
TZID:Europe/Paris
X-LIC-LOCATION:Europe/Paris
BEGIN:DAYLIGHT
TZOFFSETFROM:+0100
TZOFFSETTO:+0200
TZNAME:CEST
DTSTART:19700329T020000
RRULE:FREQ=YEARLY;BYMONTH=3;BYDAY=-1SU
END:DAYLIGHT
BEGIN:STANDARD
TZOFFSETFROM:+0200
TZOFFSETTO:+0100
TZNAME:CET
DTSTART:19701025T030000
RRULE:FREQ=YEARLY;BYMONTH=10;BYDAY=-1SU
END:STANDARD
END:VTIMEZONE
BEGIN:VEVENT
UID:2485226:Event:3127423
DTSTAMP:20260420T112614Z
SUMMARY:Formation aux fleurs de Bach
DESCRIPTION:CYCLE DE FORMATION AUX FLEURS DE BACH\nÂ Â Â Â  Ce cycle d
 e formations est destinÃ© Ã  la fois aux personnes souhaitant apprendr
 e Ã  utiliser les fleurs de Bach au quotidien dans un contexte familia
 l, mais aussi Ã  ceux qui souhaitent aller plus loin voire devenir pra
 ticien/conseiller en Fleurs de Bach. Participer au premier niveau nâ€™
 engage en rien pour les niveaux suivants.\n\nLes fleurs de Bach sont, 
 selon moi,Â un outil puissant de dÃ©couverte de soi, de cheminement in
 tÃ©rieur et de prÃ©vention et accompagnement des maladies. Ma passion 
 pour la thÃ©rapie floraleÂ mâ€™amÃ¨ne aujourdâ€™hui Ã  Ãªtre heureuse 
 de vous en transmettre touteÂ laÂ richesse.\nVoici les principales rai
 sons de se former Ã  lâ€™utilisation des fleurs de Bach :\n\nDÃ©couvri
 r une approche centrÃ©e sur lâ€™ÃŠtre\nDevenir conscient de ses erreur
 s et se permettre de changer\nSe rapprocher de son Â« chemin dâ€™Ã¢me 
 Â»\nÃ‰couter ce que les Ã©motions ont Ã  nous dire\nEn Ã©tant Ã  lâ€™Ã
 ©coute de ses Ã©tats dâ€™Ã¢me, prÃ©venir les maladies et accompagner l
 a guÃ©rison, quand la maladie est lÃ \nMieux se connaÃ®tre et partir Ã
   la dÃ©couverte de la richesse de lâ€™Ã¢me humaine\n\nInitiation : 12
 -13 fÃ©vrier 2022\nToutes les infos sur le cycle de formation ici >\ni
 nscriptions et renseignements au 06 27 49 66 10\n\nPour plus d'informa
 tion, aller sur https://epanews.fr/events/formation-aux-fleurs-de-bach
 -6
DTSTART;TZID=Europe/Paris:20220212T090000
DTEND;TZID=Europe/Paris:20220213T180000
CATEGORIES:fleurs, de, bach, elixir, therapie, florale, formation
LOCATION:Espace Retour Ã  la Source
WEBSITE:https://www.retour-a-la-source.org/formation
URL:https://www.retour-a-la-source.org/formation
CONTACT:06 27 49 66 10
ORGANIZER;CN="Institut Retour Ã  la Source":https://epanews.fr/profile
 /RetouralaSource
ATTACH;FMTTYPE="image/jpeg":https://storage.ning.com/topology/rest/1.0
 /file/get/9872539280?profile=original
ATTENDEE;ROLE=REQ-PARTICIPANT;PARTSTAT=ACCEPTED;RSVP=TRUE;CN="Institut
  Retour Ã  la Source":https://epanews.fr/profile/RetouralaSource
END:VEVENT
END:VCALENDAR
