BEGIN:VCALENDAR
PRODID:NingEventWidget-v1
VERSION:2.0
METHOD:PUBLISH
BEGIN:VTIMEZONE
TZID:Europe/Paris
X-LIC-LOCATION:Europe/Paris
BEGIN:DAYLIGHT
TZOFFSETFROM:+0100
TZOFFSETTO:+0200
TZNAME:CEST
DTSTART:19700329T020000
RRULE:FREQ=YEARLY;BYMONTH=3;BYDAY=-1SU
END:DAYLIGHT
BEGIN:STANDARD
TZOFFSETFROM:+0200
TZOFFSETTO:+0100
TZNAME:CET
DTSTART:19701025T030000
RRULE:FREQ=YEARLY;BYMONTH=10;BYDAY=-1SU
END:STANDARD
END:VTIMEZONE
BEGIN:VEVENT
UID:2485226:Event:3064679
DTSTAMP:20260424T212637Z
SUMMARY:Formation au Reiki Niveau 2
DESCRIPTION:  Le Reiki est un système d’auto-guérison naturel, q
 ui permet de capter l’énergie universelle et de la transmettre, pa
 r les mains, à soi-même ou à autrui, dans le but de lui apporter un
  mieux-être physique, émotionnel et spirituel.\n  Le Reiki permet u
 n cheminement intérieur vers le centre de son être et aide à se r
 econnecter peu à peu à la Source de guérison en Soi.\n  Il permet 
 ainsi de réveiller les capacités d’auto-guérison du corps, et aid
 e au quotidien à soulager les petits et grands maux, tels que les mal
 adies, le mal-être, les blessures, les souffrances émotionnelles… 
 C’est une aide extraordinaire qui permet de reprendre son pouvoir cr
 éateur, de devenir plus autonome face à sa santé, et de se donner d
 e l’amour à soi-même et d'en donner à celui qui en exprime le bes
 oin.\nPlus de détail sur la formation sur notre site >\n\nPour plus d
 'information, aller sur https://epanews.fr/events/formation-au-reiki-n
 iveau-2-2
DTSTART;TZID=Europe/Paris:20201010T090000
DTEND;TZID=Europe/Paris:20201011T180000
CATEGORIES:26
LOCATION:Espace Retour à la Source
WEBSITE:https://www.retour-a-la-source.org/formations-au-reiki
URL:https://www.retour-a-la-source.org/formations-au-reiki
CONTACT:0627496610
ORGANIZER;CN="Institut Retour à la Source":https://epanews.fr/profile
 /RetouralaSource
ATTACH;FMTTYPE="image/jpeg":https://storage.ning.com/topology/rest/1.0
 /file/get/6346299286?profile=original
ATTENDEE;ROLE=REQ-PARTICIPANT;PARTSTAT=ACCEPTED;RSVP=TRUE;CN="Institut
  Retour à la Source":https://epanews.fr/profile/RetouralaSource
END:VEVENT
END:VCALENDAR
