BEGIN:VCALENDAR
PRODID:NingEventWidget-v1
VERSION:2.0
METHOD:PUBLISH
BEGIN:VTIMEZONE
TZID:Europe/Paris
X-LIC-LOCATION:Europe/Paris
BEGIN:DAYLIGHT
TZOFFSETFROM:+0100
TZOFFSETTO:+0200
TZNAME:CEST
DTSTART:19700329T020000
RRULE:FREQ=YEARLY;BYMONTH=3;BYDAY=-1SU
END:DAYLIGHT
BEGIN:STANDARD
TZOFFSETFROM:+0200
TZOFFSETTO:+0100
TZNAME:CET
DTSTART:19701025T030000
RRULE:FREQ=YEARLY;BYMONTH=10;BYDAY=-1SU
END:STANDARD
END:VTIMEZONE
BEGIN:VEVENT
UID:2485226:Event:1472958
DTSTAMP:20260423T100057Z
SUMMARY:Formation au massage Tian Di
DESCRIPTION:Nous vous proposonsÂ  plus de 230 heures de formation sur 
 deux ans, et 9 mois de plus de pratique avant de vous installer en tan
 t que MassothÃ©rapeute Tian Di.\nQuâ€™est ce que le massage Tian DiÂ ?
 \nCâ€™est un massage holistique qui tient compte de la globalitÃ© de l
 â€™Ãªtre dans ces 3 plans: corps, Ã¢me, Esprit.\nCe massage est non se
 ulement un outil de guÃ©rison pour la personne qui le reÃ§oit, mais au
 ssi une pratique mÃ©ditative pour la personne qui est au service. Câ€™
 est bien plus quâ€™un outil de massage, il invite Ã  ramener le sacrÃ©
  dans la matiÃ¨re. Câ€™est aussi un vÃ©ritable outil de connexion et d
 â€™Amour de Soi.\nÂ Lors de cette formation vous apprendrez comment av
 oir un toucher juste qui permette de rentrer en communication sensorie
 lle et consciente avec le corps de la personne recevant le massage.\nV
 ous apprendrez Ã  Ã©couter et entendre ce que le corps communique, qui
  est trÃ¨s souvent en opposition avec le mental.\nEn plus des diffÃ©re
 nts cours sur lâ€™Ã©nergÃ©tique chinoise, les diffÃ©rentes faÃ§ons de 
 toucher, lâ€™Ã©coute empathique...il vous sera proposÃ© des pratiques 
 Ã©nergÃ©tiques dâ€™alchimie interne taoÃ¯stes, qui vous permettront dâ
 €™avoir une Ã©coute encore plus subtile de vous et donc de lâ€™autre.\
 nÂ Lors de chaque module quelques heures seront consacrÃ©es aux bases 
 et fondements de la mÃ©decine chinoise, mais aussi Ã  la connaissance 
 des diffÃ©rents trajets de mÃ©ridiens dâ€™acupuncture.\nÂ Domoina Bock
 omba vous ferra bÃ©nÃ©ficier de son expÃ©rience du toucher. Ses nombre
 uses formations dans une approche de lâ€™Ãªtre Ã  travers la globalitÃ
 © corps- Ã¢me- esprit, mais Ã©galement en sexothÃ©rapie , sexualitÃ© t
 aoÃ¯ste, mÃ©decine traditionnelle chinoise, et somatothÃ©rapie vous ga
 rantissent un cadre qui respecte lâ€™intÃ©gritÃ© et lâ€™intimitÃ© de c
 hacun.\n\nObjectif de la formation\n- AcquÃ©rir un Ã©tat de prÃ©sence 
 vous permettant dâ€™Ãªtre Ã  lâ€™Ã©coute de lâ€™autre.\n- Avoir les ou
 tils vous permettant de masser la personne dans sa globalitÃ©\n- Mettr
 e en oeuvre une sÃ©ance complÃ¨teÂ : de lâ€™accueil du client et l'ide
 ntification de sa demande, Ã  laÂ  rÃ©alisation de bilan corporel, en 
 sachantÂ  poser le cadre, gÃ©rer les Ã©motions Ã©ventuelles du client,
  connaÃ®tre les questions Ã  poser avant la sÃ©ance et lors dâ€™entret
 iens de fin de sÃ©ance pour un suivi des sÃ©ances Ã  venir.\n\n\nCompÃ
 ©tences visÃ©es :\nA lâ€™issue de cette formation vous serez en mesure
  de proposer un massage adaptÃ© Ã  la personne qui reÃ§oit.\nÂ Dans un
  cadre oÃ¹ la personne se sent en parfaite sÃ©curitÃ©.\nÂ Pratiquer le
  massage en respectant les limites de votre\nCorps\nÂ Etablir une rela
 tion de qualitÃ© afin dâ€™Ãªtre totalement au service de la personne q
 ui reÃ§oit.\nÂ Poser le cadre et les champs dâ€™interventions professi
 onnelles.\n\nTarifs formation:\nÂ Particuliers, demandeurs dâ€™emploi,
  Ã©tudiants:\nÂ 2500 euros par an et 4500 pour les deux ans\n(HÃ©berge
 ment en pension complÃ¨te et nourriture bio inclus)\nÂ Entreprise et p
 rofessionnels:\n4500 euros par an et 8500 pour les deux ans\n\n(HÃ©ber
 gement en pension complÃ¨te et nourriture bio inclus)\n\n\nPour plus d
 'information, aller sur https://epanews.fr/events/formation-au-massage
 -tian-di
DTSTART;TZID=Europe/Paris:20131116T100000
DTEND;TZID=Europe/Paris:20131117T180000
CATEGORIES:77
LOCATION:St denis les rebais (75km de Paris)
WEBSITE:
URL:
CONTACT:0617469294
ORGANIZER;CN=lavoie2laconscience:https://epanews.fr/profile/lavoieduto
 ut
ATTACH;FMTTYPE="image/jpeg":http://storage.ning.com/topology/rest/1.0/
 file/get/1662895879?profile=original
ATTENDEE;ROLE=REQ-PARTICIPANT;PARTSTAT=ACCEPTED;RSVP=TRUE;CN=lavoie2la
 conscience:https://epanews.fr/profile/lavoiedutout
END:VEVENT
END:VCALENDAR
