BEGIN:VCALENDAR
PRODID:NingEventWidget-v1
VERSION:2.0
METHOD:PUBLISH
BEGIN:VTIMEZONE
TZID:Europe/Paris
X-LIC-LOCATION:Europe/Paris
BEGIN:DAYLIGHT
TZOFFSETFROM:+0100
TZOFFSETTO:+0200
TZNAME:CEST
DTSTART:19700329T020000
RRULE:FREQ=YEARLY;BYMONTH=3;BYDAY=-1SU
END:DAYLIGHT
BEGIN:STANDARD
TZOFFSETFROM:+0200
TZOFFSETTO:+0100
TZNAME:CET
DTSTART:19701025T030000
RRULE:FREQ=YEARLY;BYMONTH=10;BYDAY=-1SU
END:STANDARD
END:VTIMEZONE
BEGIN:VEVENT
UID:2485226:Event:2906190
DTSTAMP:20260421T184528Z
SUMMARY:Formation au lifting énergétique d'Access Consciousness™ A
 lsace
DESCRIPTION:\nIl s'agit d'une technique énergétique quantique qui ag
 it par simple apposition des mains sur des zones spécifiques.  Partic
 ipez à la formation d'1 journée pour apprendre cette superbe méthod
 e à utiliser de manière professionnelle ou non, avant tout, faites v
 ous plaisir ! ** La formation au Lifting énergétique Facelift™ es
 t sans aucun pré-requis, cette journée est ouverte à tous et certif
 iante !Il s'agit là des supers outils énergétique Access Consciousn
 ess™Le processus du Facelift™ est très puissant, c'est le moyen l
 e plus naturel pour vous de vous sentir mieux dans votre corps et votr
 e peau... (pas de scalpel ou botox, ni de mal traitance de la peau av
 ec d'éventuelles cicatrices ou des boursouflures, des bleus, voir pir
 e quand ça loupe... aucun effet secondaire) Non, tout se fait dans la
  détente la plus totale !Cet incroyable processus permet de défaire 
 les effets du vieillissement sur votre visage, mais également sur vot
 re corps, partout où votre corps a besoin d'énergie, celle-ci ira co
 mbler le manque. C'est un processus très relaxant et transformationne
 l pour toutes les marques sur la peau (rides, vergetures, cicatrices..
 .) et l'apparence du corps en général.Gary Douglas a fondé Access C
 onsciousness™ il y a plus de 25 ans, ces \"outils\" sont maintenant 
 diffusés dans 175 pays !!!Il vous suffira d'une seule journée pour a
 cquérir la technique des Bars ou du lifting que vous pourrez ensuite 
 diffuser autour de vous et pratiquer sur vous même...Encore mieux, ve
 nez à deux pour vous le faire à volonté !!!Déroulement d'une journ
 ée de formation :Vous recevrez 2 séances sur vous même et en donner
 ez 2 sur un binôme, ce qui vous permettra de bien expérimenter la te
 chnique, et de ressentir ce qui se passe dans vos mains et votre corps
 ...Après cette journée vous serez praticienne et pourrez pratiquer p
 rofessionnellement ou juste pour le plaisir !Tarif ​Lifting Energét
 ique ​: 200EUR​ si vous pratiquez déjà les Bars ou 230€ ​Hor
 aire :10h​-​18h\n Informations : Dominique Rittimann 06 98 56 62 9
 7 www.bien-etre-shiatsu.fr\n\nPour plus d'information, aller sur https
 ://epanews.fr/events/formation-au-lifting-nerg-tique-d-access-consciou
 sness-alsace
DTSTART;TZID=Europe/Paris:20171221T000000
DTEND;TZID=Europe/Paris:20171221T235900
CATEGORIES:68
LOCATION:Colmar
WEBSITE:http://www.bien-etre-shiatsu.fr
URL:http://www.bien-etre-shiatsu.fr
CONTACT:0698566297
ORGANIZER:Dominique
ATTACH;FMTTYPE="image/jpeg":http://storage.ning.com/topology/rest/1.0/
 file/get/1663594114?profile=original
ATTENDEE;ROLE=REQ-PARTICIPANT;PARTSTAT=ACCEPTED;RSVP=TRUE;CN="Dominiqu
 e Rittimann":https://epanews.fr/profile/DominiqueR
END:VEVENT
END:VCALENDAR
