BEGIN:VCALENDAR
PRODID:NingEventWidget-v1
VERSION:2.0
METHOD:PUBLISH
BEGIN:VTIMEZONE
TZID:Europe/Paris
X-LIC-LOCATION:Europe/Paris
BEGIN:DAYLIGHT
TZOFFSETFROM:+0100
TZOFFSETTO:+0200
TZNAME:CEST
DTSTART:19700329T020000
RRULE:FREQ=YEARLY;BYMONTH=3;BYDAY=-1SU
END:DAYLIGHT
BEGIN:STANDARD
TZOFFSETFROM:+0200
TZOFFSETTO:+0100
TZNAME:CET
DTSTART:19701025T030000
RRULE:FREQ=YEARLY;BYMONTH=10;BYDAY=-1SU
END:STANDARD
END:VTIMEZONE
BEGIN:VEVENT
UID:2485226:Event:2901321
DTSTAMP:20260424T140833Z
SUMMARY:Formation animateur agréé yoga du rire
DESCRIPTION:Accédez à la méthode anti stress du Dr Kataria  et dev
 enez animateur agréé yoga du rire grâce à 2 jours de formation com
 plète !\nhttp://www.formation-yogadurire.fr/lecole/lecole/\n\nPour p
 lus d'information, aller sur https://epanews.fr/events/formation-anima
 teur-agr-yoga-du-rire-11
DTSTART;TZID=Europe/Paris:20181201T100000
DTEND;TZID=Europe/Paris:20181202T190000
CATEGORIES:33
LOCATION:BORDEAUX
WEBSITE:
URL:
CONTACT:0299002210
ORGANIZER:Institut français du Yoga du Rire
ATTACH;FMTTYPE="image/jpeg":http://storage.ning.com/topology/rest/1.0/
 file/get/1663701870?profile=original
ATTENDEE;ROLE=REQ-PARTICIPANT;PARTSTAT=ACCEPTED;RSVP=TRUE;CN="Institut
  du Yoga du Rire":https://epanews.fr/profile/InstitutduYogaduRire
ATTENDEE;ROLE=REQ-PARTICIPANT;PARTSTAT=TENTATIVE;RSVP=TRUE;CN=millou33
 :https://epanews.fr/profile/millou33
END:VEVENT
END:VCALENDAR
