BEGIN:VCALENDAR
PRODID:NingEventWidget-v1
VERSION:2.0
METHOD:PUBLISH
BEGIN:VTIMEZONE
TZID:Europe/Paris
X-LIC-LOCATION:Europe/Paris
BEGIN:DAYLIGHT
TZOFFSETFROM:+0100
TZOFFSETTO:+0200
TZNAME:CEST
DTSTART:19700329T020000
RRULE:FREQ=YEARLY;BYMONTH=3;BYDAY=-1SU
END:DAYLIGHT
BEGIN:STANDARD
TZOFFSETFROM:+0200
TZOFFSETTO:+0100
TZNAME:CET
DTSTART:19701025T030000
RRULE:FREQ=YEARLY;BYMONTH=10;BYDAY=-1SU
END:STANDARD
END:VTIMEZONE
BEGIN:VEVENT
UID:2485226:Event:2982544
DTSTAMP:20260423T120642Z
SUMMARY:Formation animateur agrÃ©Ã© de yoga du rire
DESCRIPTION:Ouvert Ã  tous ;Â A titre personnel ou professionnel\nDÃ©c
 ouvrez des outils pour rÃ©veiller la joie de vivre, augmenter sa capac
 itÃ© Ã  rire et booster le positif. Faites lâ€™expÃ©rience dâ€™une app
 roche novatrice et rafraÃ®chissante: vous allez adorerÂ !\nVous appren
 drez notamment des techniques ludiques dâ€™Ã©vacuation des tensions,Â 
 de lÃ¢cher prise immÃ©diat et nous explorerons comment ajouter plus de
  rire et deÂ positif dans sa vie. En 2 jours, les participants reparte
 nt avec des bases solides pour devenir autonome et pour commencer Ã  a
 nimer des sÃ©ances de qualitÃ© auprÃ¨s de diffÃ©rents publics (jeunes,
  seniors, adultes, entreprises, Ã©coles, etc.)\nObtention du titre dâ€
 ™animateur de yoga du rire agrÃ©Ã© par lâ€™Ecole internationale du Yog
 a du rire du docteur Kataria et par lâ€™Institut FranÃ§ais du Yoga du 
 Rire & du rire-SantÃ©. Il sâ€™agit dâ€™une double reconnaissance inÃ©d
 ite, leur permettant dâ€™exercer lÃ©galement le yoga du rire (et dâ€™o
 uvrir un club de rire).\nCoÃ»tÂ : 250 euros (frais dâ€™inscription, ma
 nuel inclus, inscription annuaireâ€¦).\n\nPour plus d'information, all
 er sur https://epanews.fr/events/formation-animateur-agr-de-yoga-du-ri
 re
DTSTART;TZID=Europe/Paris:20190427T000000
DTEND;TZID=Europe/Paris:20190428T235900
CATEGORIES:35
LOCATION:Rennes
WEBSITE:https://www.formation-yogadurire.fr
URL:https://www.formation-yogadurire.fr
CONTACT:02 99 00 22 10
ORGANIZER;CN="Institut du Yoga du Rire":https://epanews.fr/profile/Ins
 titutduYogaduRire
ATTACH;FMTTYPE="image/jpeg":http://storage.ning.com/topology/rest/1.0/
 file/get/1663760997?profile=original
ATTENDEE;ROLE=REQ-PARTICIPANT;PARTSTAT=ACCEPTED;RSVP=TRUE;CN="Institut
  du Yoga du Rire":https://epanews.fr/profile/InstitutduYogaduRire
END:VEVENT
END:VCALENDAR
