BEGIN:VCALENDAR
PRODID:NingEventWidget-v1
VERSION:2.0
METHOD:PUBLISH
BEGIN:VTIMEZONE
TZID:Europe/Paris
X-LIC-LOCATION:Europe/Paris
BEGIN:DAYLIGHT
TZOFFSETFROM:+0100
TZOFFSETTO:+0200
TZNAME:CEST
DTSTART:19700329T020000
RRULE:FREQ=YEARLY;BYMONTH=3;BYDAY=-1SU
END:DAYLIGHT
BEGIN:STANDARD
TZOFFSETFROM:+0200
TZOFFSETTO:+0100
TZNAME:CET
DTSTART:19701025T030000
RRULE:FREQ=YEARLY;BYMONTH=10;BYDAY=-1SU
END:STANDARD
END:VTIMEZONE
BEGIN:VEVENT
UID:2485226:Event:630920
DTSTAMP:20260423T042234Z
SUMMARY:Formation Alimentation et Energie le 7 et 8 Janvier 2012
DESCRIPTION:Découvrez, lors de cette formation originale et ludique, 
 la relation étroite entre alimentation et énergie. Car il existe en 
 effet des aliments apportant de l’énergie, d’autres au contraire 
 venant vous en prendre. Apprenez donc à les reconnaître et à compre
 ndre pourquoi et comment. Venez également découvrir l’importance d
 e la personnalisation car nous sommes tous différents morphologiquem
 ent, de par l’élément auquel nous appartenons, notre mode de vie, 
 notre culture, nos lieux géographiques de naissance…\nAiguisez donc
  votre talent d’observation tant vis-à-vis de vous-même que vis-à
 -vis des autres, notamment de vos patients si vous êtes thérapeute. 
 Vous alternerez bien sûr entre pratique et théorie lors de ce stage 
 très enrichissant et interactif.\nTarifs: 150€\nHoraires: de 10h à
  17h30\n\nPour plus d'information, aller sur https://epanews.fr/events
 /formation-alimentation-et-energie-le-7-et-8-janvier-2012
DTSTART;TZID=Europe/Paris:20120107T180000
DTEND;TZID=Europe/Paris:20120108T190000
CATEGORIES:75
LOCATION:PARIS 
WEBSITE:
URL:
CONTACT:06 13 52 31 88 - 01 43 64 07 19 
ORGANIZER:Barbara Aubry l'art du toucher
ATTACH;FMTTYPE="image/jpeg":http://storage.ning.com/topology/rest/1.0/
 file/get/1662516749?profile=original
ATTENDEE;ROLE=REQ-PARTICIPANT;PARTSTAT=ACCEPTED;RSVP=TRUE;CN="Barbara 
 Anemone l'Art du Toucher":https://epanews.fr/profile/BarbaraAnemeonela
 rtdutouch
END:VEVENT
END:VCALENDAR
