BEGIN:VCALENDAR
PRODID:NingEventWidget-v1
VERSION:2.0
METHOD:PUBLISH
BEGIN:VTIMEZONE
TZID:Europe/Paris
X-LIC-LOCATION:Europe/Paris
BEGIN:DAYLIGHT
TZOFFSETFROM:+0100
TZOFFSETTO:+0200
TZNAME:CEST
DTSTART:19700329T020000
RRULE:FREQ=YEARLY;BYMONTH=3;BYDAY=-1SU
END:DAYLIGHT
BEGIN:STANDARD
TZOFFSETFROM:+0200
TZOFFSETTO:+0100
TZNAME:CET
DTSTART:19701025T030000
RRULE:FREQ=YEARLY;BYMONTH=10;BYDAY=-1SU
END:STANDARD
END:VTIMEZONE
BEGIN:VEVENT
UID:2485226:Event:1419090
DTSTAMP:20260421T215037Z
SUMMARY:Formation Access Consciousness, les Bars
DESCRIPTION:Access Consciousness, les Bars\n\"Tout dans la vie me vien
 t avec facilitÃ© joie et splendeur\"\nÂ \nHarmonisation Ã©nergÃ©tique.
 \nAccess Bars est une harmonisation Ã©nergÃ©tique qui supprime les con
 sidÃ©rations, pensÃ©es et schÃ©mas, l'effacement des vieux schÃ©mas de
 venus inutiles (peurs, souffrances, Ã©checs, etc).\nVotre nature profo
 nde est alors libre de s'exprimer de faÃ§on simple, naturelle, automat
 ique.\nPar un toucher lÃ©ger des doigts sur certains points du crÃ¢ne,
  vous apprenez simplement Ã  recevoir, Ã  arrÃªter de faire des effort
 s, Ã  ne rien penser. Les Bars sont les connexion qui s'activent lorsq
 ue vous touchez certains points (32) parallÃ¨les du crÃ¢ne ; ils corre
 spondent Ã  des schÃ©mas tels que la santÃ©, le joie, la crÃ©ativitÃ©,
  la sÃ©curitÃ©, l'argent, le pouvoir, le contrÃ´le...\nCrÃ©e par Gary 
 Douglas, Access-Bars, c'est facile, simple, naturel et Ã©vident, vous 
 n'avez rien Ã  donner, ce n'est pas votre Ã©nergie qui travaille, mais
  l'Ã©nergie qui coule Ã  travers vous.\nSi votre intention est importa
 nte lorsque vous recevez une sÃ©ance de Bars, ce qui sera touchÃ© est 
 votre demande la plus profonde, celle de votre ÃŠtre.\nNul besoin de t
 alents ou d'aptitudes particuliÃ¨res, cette formation est accessible Ã
   tous.\n\nPour plus d'information, aller sur https://epanews.fr/event
 s/formation-access-consciousness-les-bars
DTSTART;TZID=Europe/Paris:20130622T000000
DTEND;TZID=Europe/Paris:20130622T235900
CATEGORIES:56
LOCATION:Bretagne, Morbihan, Muzillac
WEBSITE:
URL:
CONTACT:0660934303
ORGANIZER;CN="Gilles R":https://epanews.fr/profile/Anurebis
ATTACH;FMTTYPE="image/jpeg":
ATTENDEE;ROLE=REQ-PARTICIPANT;PARTSTAT=ACCEPTED;RSVP=TRUE;CN="Gilles R
 ":https://epanews.fr/profile/Anurebis
END:VEVENT
END:VCALENDAR
