BEGIN:VCALENDAR
PRODID:NingEventWidget-v1
VERSION:2.0
METHOD:PUBLISH
BEGIN:VTIMEZONE
TZID:Europe/Paris
X-LIC-LOCATION:Europe/Paris
BEGIN:DAYLIGHT
TZOFFSETFROM:+0100
TZOFFSETTO:+0200
TZNAME:CEST
DTSTART:19700329T020000
RRULE:FREQ=YEARLY;BYMONTH=3;BYDAY=-1SU
END:DAYLIGHT
BEGIN:STANDARD
TZOFFSETFROM:+0200
TZOFFSETTO:+0100
TZNAME:CET
DTSTART:19701025T030000
RRULE:FREQ=YEARLY;BYMONTH=10;BYDAY=-1SU
END:STANDARD
END:VTIMEZONE
BEGIN:VEVENT
UID:2485226:Event:2906349
DTSTAMP:20260421T170844Z
SUMMARY:Formation Access Barsâ„¢ en Alsace
DESCRIPTION:Avez-vous envie de changer certains aspects de votre vie ?
   Access consciousness est une technique psycho-Ã©nergÃ©tique crÃ¢nien
 ne dâ€™une grande simplicitÃ© qui va permettre aux personnes qui souha
 itent changer certains aspects de leur vie de crÃ©er de rÃ©els changem
 ents avec beaucoup de facilitÃ© par un touchÃ© trÃ¨s doux sur 32 point
 s spÃ©cifiques appelÃ©s aussi Â« les Bars Â». Lâ€™activation de ces 32
  points permet de lÃ¢cher des mÃ©moires erronÃ©es, qui peuvent Ãªtre t
 rÃ¨s anciennes pouvant remonter aux origines de lâ€™humanitÃ© et ainsi
  dissoudre des schÃ©mas limitants et rÃ©pÃ©titifs engrammÃ©s dans le c
 orps et la conscience Ã  notre insuÂ  (histoires familiales ou ancestr
 ales, traumatismes, obsessionsâ€¦)  Ces Â« Bars Â» contiennent toutes 
 les pensÃ©es, idÃ©es, croyances, Ã©motions, jugements et considÃ©ratio
 ns que vous avez stockÃ©es tout au long de votre vie et bien au-delÃ .
   Gary Douglas a fondÃ© Access Consciousnessâ„¢ il y a plus de 25 ans 
 et diffusÃ© ce merveilleux procÃ©dÃ© Ã  travers le monde.  Je vous pro
 pose dâ€™apprendre cette technique simple, mais trÃ¨s puissante Ã  tra
 vers une journÃ©e de formation Ã  lâ€™issu de laquelle vous obtiendrez
  un certificat de participation qui vous donnera le droit de pratiquer
  Ã  votre tour. Un livret pÃ©dagogique vous sera Ã©galement remis.  Ce
 tte formation sâ€™adresse Ã  tous ceux qui souhaitent pratiquer cette 
 mÃ©thode sur autrui ou sur eux-mÃªmes. Il nâ€™y a aucun prÃ©-requis ! 
  Durant cette journÃ©e vous allez visualiser une vidÃ©o de prÃ©sentati
 on de Gary Douglas fondateur dâ€™Access Consciousness et du Dr Dain He
 er. Echanges, pratique et thÃ©orie, donner et recevoir 2 fois les Bars
 .Â   Tarif : 270â‚¬ pour un premier cours ou 135â‚¬ si vous reprenez l
 e cours. DÃ¨s janvier Access augmente ses tarifs Ã  300â‚¬ la journÃ©e
 . Horaire : 10h-18h https://youtu.be/X2HWH9fG_40  Places limitÃ©es, rÃ
 ©servez rapidement la vÃ´tre ;-)   Renseignements complÃ©mentaires Dom
 inique Rittimann 06 98 56 62 97 www.bien-etre-shiatsu.fr\n\nPour plus 
 d'information, aller sur https://epanews.fr/events/formation-access-ba
 rs-en-alsace-2
DTSTART;TZID=Europe/Paris:20171220T000000
DTEND;TZID=Europe/Paris:20171220T235900
CATEGORIES:68
LOCATION:COLMAR
WEBSITE:http://www.bien-etre-shiatsu.fr
URL:http://www.bien-etre-shiatsu.fr
CONTACT:0698566297
ORGANIZER:Dominique RITTIMANN
ATTACH;FMTTYPE="image/jpeg":http://storage.ning.com/topology/rest/1.0/
 file/get/1663615123?profile=original
ATTENDEE;ROLE=REQ-PARTICIPANT;PARTSTAT=ACCEPTED;RSVP=TRUE;CN="Dominiqu
 e Rittimann":https://epanews.fr/profile/DominiqueR
END:VEVENT
END:VCALENDAR
