BEGIN:VCALENDAR
PRODID:NingEventWidget-v1
VERSION:2.0
METHOD:PUBLISH
BEGIN:VTIMEZONE
TZID:Europe/Paris
X-LIC-LOCATION:Europe/Paris
BEGIN:DAYLIGHT
TZOFFSETFROM:+0100
TZOFFSETTO:+0200
TZNAME:CEST
DTSTART:19700329T020000
RRULE:FREQ=YEARLY;BYMONTH=3;BYDAY=-1SU
END:DAYLIGHT
BEGIN:STANDARD
TZOFFSETFROM:+0200
TZOFFSETTO:+0100
TZNAME:CET
DTSTART:19701025T030000
RRULE:FREQ=YEARLY;BYMONTH=10;BYDAY=-1SU
END:STANDARD
END:VTIMEZONE
BEGIN:VEVENT
UID:2485226:Event:1690315
DTSTAMP:20260423T131116Z
SUMMARY:FORMATION ACCESS BARS
DESCRIPTION:Session ouverte aux 1eres formations, et journées 2 et 3 
 pour validation\nFormation \"Access Consciousness Bars\"\nVenez nous r
 etrouver dans la joie de co-créer une nouvelle réalité ...\n\nPour 
 plus d'information, aller sur https://epanews.fr/events/formation-acce
 ss-bars-2
DTSTART;TZID=Europe/Paris:20140117T000000
DTEND;TZID=Europe/Paris:20140118T235900
CATEGORIES:13, 83
LOCATION:Puyricard, Toulon
WEBSITE:
URL:
CONTACT:06.62.26.73.48
ORGANIZER;CN="guylaine ballester":https://epanews.fr/profile/guylaineb
 allester
ATTACH;FMTTYPE="image/jpeg":http://storage.ning.com/topology/rest/1.0/
 file/get/1663001635?profile=original
ATTENDEE;ROLE=REQ-PARTICIPANT;PARTSTAT=ACCEPTED;RSVP=TRUE;CN="guylaine
  ballester":https://epanews.fr/profile/guylaineballester
END:VEVENT
END:VCALENDAR
