BEGIN:VCALENDAR
PRODID:NingEventWidget-v1
VERSION:2.0
METHOD:PUBLISH
BEGIN:VTIMEZONE
TZID:Europe/Paris
X-LIC-LOCATION:Europe/Paris
BEGIN:DAYLIGHT
TZOFFSETFROM:+0100
TZOFFSETTO:+0200
TZNAME:CEST
DTSTART:19700329T020000
RRULE:FREQ=YEARLY;BYMONTH=3;BYDAY=-1SU
END:DAYLIGHT
BEGIN:STANDARD
TZOFFSETFROM:+0200
TZOFFSETTO:+0100
TZNAME:CET
DTSTART:19701025T030000
RRULE:FREQ=YEARLY;BYMONTH=10;BYDAY=-1SU
END:STANDARD
END:VTIMEZONE
BEGIN:VEVENT
UID:2485226:Event:2731317
DTSTAMP:20260421T125841Z
SUMMARY:formation access bars
DESCRIPTION:Formation pratique et certifianteÂ Praticien Access Bars\n
 Dimanche 6 novembreÂ 2016 deÂ 9h Ã  18h\nTARIF fixÃ© par Access Consci
 ousness :Â 270â‚¬ TTC (135â‚¬ si 2Ã¨me ou 3Ã¨me journÃ©e)Â Gratuit pou
 r les enfants moins 15 ans et moitiÃ© prix de 16 Ã  18 ans.\nA l'issu 
 de la journÃ©e vous Ãªtes ensuite reconnu Praticien CertifiÃ© BarsÂ®.Â
  Vous pourrez ainsiÂ donner des sÃ©ances de BarsÂ® de faÃ§on privÃ©e e
 t/ou professionnelle. Suivez 3 journÃ©es de classe de BarsÂ® avec 3 fa
 cilitateurs diffÃ©rents, devenez Ã  votre tourÂ facilitateur.\nRÃ©serv
 ez auprÃ¨s de :Â Sandrine 06.87.88.53.59 ouÂ Sophie 07.70.69.79.83\n\n
 \n\n\n\n\n\n\n\n\n\n\n\n\n\n\n\n\n\n\n\n\n\n\n\n\n\n\n\n\nPour plus d'
 information, aller sur https://epanews.fr/events/formation-access-bars
 -13
DTSTART;TZID=Europe/Paris:20161106T000000
DTEND;TZID=Europe/Paris:20161106T235900
CATEGORIES:13
LOCATION:salon de provence ou aix en provence
WEBSITE:
URL:
CONTACT:0770697983
ORGANIZER;CN="sophie brun":https://epanews.fr/profile/sophiebrun
ATTACH;FMTTYPE="image/jpeg":
ATTENDEE;ROLE=REQ-PARTICIPANT;PARTSTAT=ACCEPTED;RSVP=TRUE;CN="sophie b
 run":https://epanews.fr/profile/sophiebrun
END:VEVENT
END:VCALENDAR
