BEGIN:VCALENDAR
PRODID:NingEventWidget-v1
VERSION:2.0
METHOD:PUBLISH
BEGIN:VTIMEZONE
TZID:Europe/Paris
X-LIC-LOCATION:Europe/Paris
BEGIN:DAYLIGHT
TZOFFSETFROM:+0100
TZOFFSETTO:+0200
TZNAME:CEST
DTSTART:19700329T020000
RRULE:FREQ=YEARLY;BYMONTH=3;BYDAY=-1SU
END:DAYLIGHT
BEGIN:STANDARD
TZOFFSETFROM:+0200
TZOFFSETTO:+0100
TZNAME:CET
DTSTART:19701025T030000
RRULE:FREQ=YEARLY;BYMONTH=10;BYDAY=-1SU
END:STANDARD
END:VTIMEZONE
BEGIN:VEVENT
UID:2485226:Event:3120870
DTSTAMP:20260419T225849Z
SUMMARY:Flo Kardinal
DESCRIPTION:Les danses Sacrées de l'Amour / Flo Kardinal\nStage autou
 r de la roue médecine et de l'énergie sexuelle sacrée\n4 jours en p
 résentiel et immersion du 29/08 au 1/09 /2021 \ncontact lasecousseli
 bre@gmail.com\n\nPour plus d'information, aller sur https://epanews.fr
 /events/flo-kardinal
DTSTART;TZID=Europe/Paris:20210828T000000
DTEND;TZID=Europe/Paris:20210901T235900
CATEGORIES:12000
LOCATION:gite de Faragous
WEBSITE:
URL:
CONTACT:0626801130
ORGANIZER;CN="Flo Kardinal":https://epanews.fr/profile/FloKardinal
ATTACH;FMTTYPE="image/jpeg":
ATTENDEE;ROLE=REQ-PARTICIPANT;PARTSTAT=ACCEPTED;RSVP=TRUE;CN="Flo Kard
 inal":https://epanews.fr/profile/FloKardinal
END:VEVENT
END:VCALENDAR
