BEGIN:VCALENDAR
PRODID:NingEventWidget-v1
VERSION:2.0
METHOD:PUBLISH
BEGIN:VTIMEZONE
TZID:Europe/Paris
X-LIC-LOCATION:Europe/Paris
BEGIN:DAYLIGHT
TZOFFSETFROM:+0100
TZOFFSETTO:+0200
TZNAME:CEST
DTSTART:19700329T020000
RRULE:FREQ=YEARLY;BYMONTH=3;BYDAY=-1SU
END:DAYLIGHT
BEGIN:STANDARD
TZOFFSETFROM:+0200
TZOFFSETTO:+0100
TZNAME:CET
DTSTART:19701025T030000
RRULE:FREQ=YEARLY;BYMONTH=10;BYDAY=-1SU
END:STANDARD
END:VTIMEZONE
BEGIN:VEVENT
UID:2485226:Event:3067332
DTSTAMP:20260424T100045Z
SUMMARY:Fleurs de Bach - Cycle de 5 ateliers
DESCRIPTION:Fleurs de Bach - Cycle de 5 ateliers par Clemence Leyval\n
 Cycle de 5 ateliers Fleurs de Bach par Clémence Leyval Conseillère a
 gréée Fleurs de Bach et conseillère-enseignante de LPEFB Je vous pr
 opose un ensemble de 5 ateliers sur 2 mois afin de comprendre et d'uti
 liser vous-mêmes les fleurs de Bach en toute autonomie. Ces élixirs 
 floraux vous apporterons harmonie et équilibre émotionnel dans votre
  quotidien, à tous moments, dans toutes les épreuves de votre existe
 nce. Ce sont des \"accompagnateurs de vie\", pour vous, vos proches, v
 os animaux, vos plantes ...\nGardons toujours à l’esprit la simplic
 ité de la méthode, car c’est ce qui fait sa force ! A chaque ateli
 er, vous recevrez des supports de cours et les 38 Fleurs de Bach seron
 t mis à votre disposition afin de constituer vous-mêmes votre flacon
  personnalisé. Au plaisir de vous y retrouver...\nVoyageons légers s
 ur le chemin de la vie, cela aidera le monde !\nTarifs non-adhérents 
 175€ (35€/atelier) adhérents 150€ (30€/atelier)\nRéservation
 s Nadège 06.23.01.35.96 larcencieldupartage@gmail.com ou systeme rés
 ervation Rservio https://l-arcencieldupartage.reservio.com\nLieu : l'a
 rc en ciel du partage 1 rue garancière 11100 narbonne www.larcencield
 upartage.org\n\nPour plus d'information, aller sur https://epanews.fr/
 events/fleurs-de-bach-cycle-de-5-ateliers-1
DTSTART;TZID=Europe/Paris:20210109T140000
DTEND;TZID=Europe/Paris:20210109T170000
CATEGORIES:11
LOCATION:l'arc en ciel du partage
WEBSITE:http://www.larcencieldupartage.org
URL:http://www.larcencieldupartage.org
CONTACT:0623013596
ORGANIZER;CN="L'arc en ciel du partage":https://epanews.fr/profile/Lar
 cencieldupartage
ATTACH;FMTTYPE="image/jpeg":https://storage.ning.com/topology/rest/1.0
 /file/get/7134027053?profile=original
ATTENDEE;ROLE=REQ-PARTICIPANT;PARTSTAT=ACCEPTED;RSVP=TRUE;CN="L'arc en
  ciel du partage":https://epanews.fr/profile/Larcencieldupartage
END:VEVENT
END:VCALENDAR
