BEGIN:VCALENDAR
PRODID:NingEventWidget-v1
VERSION:2.0
METHOD:PUBLISH
BEGIN:VTIMEZONE
TZID:Europe/Paris
X-LIC-LOCATION:Europe/Paris
BEGIN:DAYLIGHT
TZOFFSETFROM:+0100
TZOFFSETTO:+0200
TZNAME:CEST
DTSTART:19700329T020000
RRULE:FREQ=YEARLY;BYMONTH=3;BYDAY=-1SU
END:DAYLIGHT
BEGIN:STANDARD
TZOFFSETFROM:+0200
TZOFFSETTO:+0100
TZNAME:CET
DTSTART:19701025T030000
RRULE:FREQ=YEARLY;BYMONTH=10;BYDAY=-1SU
END:STANDARD
END:VTIMEZONE
BEGIN:VEVENT
UID:2485226:Event:1150167
DTSTAMP:20260421T011037Z
SUMMARY:Flash Mob Mondial du 14 FÃ©vrier 2013 pour que la violence env
 ers les femmes et les jeunes filles s'arrÃªte
DESCRIPTION:Bonjour,Â Â Â Â Â Â Â Â Â Â Â Â Â Â Â Â Â Â Â Â Â Â Â Â Â 
 Â Â Â Â Â Â Â Â Â Â Â Â Â Â Â Â Â Â Â Â Â Â Â Â Â Â Â Â Â Â Â Â Â Â Â 
 Â Â Â Â Â Â Â Â Â Â Â Â Â Â Â Â Â \nÃ  Saint-Etienne,Â un petit comitÃ
 © de 4 femmes , Ã  ceÂ jour,Â a pris l'initiative de rÃ©pondre Ã  l'ap
 pelÂ de la journÃ©e internationale du jeudi 14 FÃ©vrier 2013.\nCe jour
 -lÃ  1 milliard deÂ femmes se lÃ¨vent, dansentÂ pour direÂ NON aux vio
 lences exercÃ©es contre les femmes, les petites et jeunes fillesÂ pour
  dire OUI Ã  la santÃ©, la dignitÃ©,la solidaritÃ©, la crÃ©ativitÃ©, l
 'amour.Â Â Des manifestations, festives et crÃ©atives,Â des danses aur
 ont lieu partout dans le monde,Â voir la carte du monde et toutes les 
 manifestations organisÃ©esÂ sur le site Â«Â onebillionrising.orgÂ Â».\
 nNous vous proposons une rÃ©pÃ©tition pour apprendre la chorÃ©graphie 
 avec Lise au studio de danse Emporium Ã  Saint Etienne, 17 rue Thimoni
 er le samedi 9 FÃ©vrier Ã  13h ou 17h. Nb de places limitÃ©, inscrivez
  vous auÂ 07 78 31 28 99 ou au 04 27 40 74 41.\nDans le monde entier, 
 ce mÃªme jour,Â nous allons danser cette mÃªme danse.Â Je vous renvoie
  aussi au site franÃ§ais :Â«Â http://1billionrisingfrance.wordpress.co
 m/Â»\n- Le JOUR â€“\n1 - PROJECTIONS des 2 vidÃ©os - motion et danse-Â
  Au \"MELIES CAFE\", \"Le STROMBOLI\",Â bar restaurant le \"Nouai Borf
 a\", place Jean JaurÃ¨s\nProposez des projections publiques partout oÃ
 ¹Â c'est possible !Â Les vidÃ©os sont tÃ©lÃ©chargeables sur le site am
 Ã©ricainÂ : http://onebillionrising.org/pages/video-downloads\n2 - BOÃ
 ŽTES AUX LETTRES auÂ MELIES CAFE\nDes boÃ®tes aux lettres seront Ã  di
 sposition dans la ville de Saint-EtienneÂ pour recueillir des tÃ©moign
 ages, sur le thÃ¨me : Â je suis tombÃ©e ...Â ce qui m'aide Ã  me relev
 er, c'est ....Â aujourd'hui je me lÃ¨ve pour ...\n3 - ATELIER d'ECRITU
 RE\nl'aprÃ¨s-midi du 14 fÃ©vrier 2013 :Â 1 atelier d'Ã©criture sera pr
 oposÃ© PlaceÂ Jean JaurÃ¨s - au Stromboli - Ã  15H -Â sur inscription 
 (06 33 67 83 95) -Â sur le thÃ¨me en 3 points du recueil de tÃ©moignag
 esÂ par Annie DESTOMBES.Â \n4 - ET SURTOUT\n18 heures TOUTES etÂ TOUS 
 ceux qui nous soutiennent, nous aiment\nÃ  Jean JaurÃ¨s -Â Il y aura :
 Â unÂ espace d'expression,Â une rÃ©pÃ©titionÂ de la chorÃ©graphie,Â no
 tre danse du jour \"brise tes chaÃ®nes\",Â une ronde de solidaritÃ© et
  d'Ã©treintes sororales et fraternelles.Les participantes sont invitÃ©
 es Ã  porter une touche de couleur de la journÃ©eÂ :Â rose vif /orange
  vif (voir logo)\nMerci de vous inscrire sur le site franÃ§ais,merci d
 e votre participation Ã  ce grand et beau jour dans le mondeÂ Â \nEn e
 spÃ©rant vous retrouver le 14 FÃ©vrier 18h Ã  Saint Etienne place Jean
  JaurÃ¨s,\nTrÃ¨s belle journÃ©e Ã  vous toutes et tous\nMarielle\nInfo
 s OBR Saint Etienne 14-02-13\nParoles Break The ChainÂ \n\nPour plus d
 'information, aller sur https://epanews.fr/events/flash-mob-mondial-du
 -14-f-vrier-2013-pour-que-la-violence-envers
DTSTART;TZID=Europe/Paris:20130214T180000
DTEND;TZID=Europe/Paris:20130214T200000
CATEGORIES:42
LOCATION:Saint Etienne Place Jean JaurÃ¨s
WEBSITE:
URL:
CONTACT:0620123222
ORGANIZER;CN=MaryL:https://epanews.fr/profile/MaryL
ATTACH;FMTTYPE="image/jpeg":
ATTENDEE;ROLE=REQ-PARTICIPANT;PARTSTAT=ACCEPTED;RSVP=TRUE;CN=somoon:ht
 tps://epanews.fr/profile/somoon
ATTENDEE;ROLE=REQ-PARTICIPANT;PARTSTAT=ACCEPTED;RSVP=TRUE;CN=MaryL:htt
 ps://epanews.fr/profile/MaryL
END:VEVENT
END:VCALENDAR
