BEGIN:VCALENDAR
PRODID:NingEventWidget-v1
VERSION:2.0
METHOD:PUBLISH
BEGIN:VTIMEZONE
TZID:Europe/Paris
X-LIC-LOCATION:Europe/Paris
BEGIN:DAYLIGHT
TZOFFSETFROM:+0100
TZOFFSETTO:+0200
TZNAME:CEST
DTSTART:19700329T020000
RRULE:FREQ=YEARLY;BYMONTH=3;BYDAY=-1SU
END:DAYLIGHT
BEGIN:STANDARD
TZOFFSETFROM:+0200
TZOFFSETTO:+0100
TZNAME:CET
DTSTART:19701025T030000
RRULE:FREQ=YEARLY;BYMONTH=10;BYDAY=-1SU
END:STANDARD
END:VTIMEZONE
BEGIN:VEVENT
UID:2485226:Event:1312775
DTSTAMP:20260420T214046Z
SUMMARY:Fin d''après midi atelier Yoga 4 mai et 8 juin près d'Alès
DESCRIPTION:Un temps pour soi. Un moment de ressourcement corps et esp
 rit. Mieux respirer, se détendre, tonifier son corps, méditer...\n2h
 30 de pratique de yoga revitalisante et relaxante.\nAvec instructrice 
 formée par yogi Babacar Khane\nMerci de nous contacter pour réserver
 .\n\nPour plus d'information, aller sur https://epanews.fr/events/fin-
 d-apr-s-midi-atelier-yoga-4-mai-et-8-juin-pr-s-d-al-s
DTSTART;TZID=Europe/Paris:20130504T163000
DTEND;TZID=Europe/Paris:20130504T190000
CATEGORIES:30
LOCATION:Proche d'Alès. Saint Jean du Pin
WEBSITE:
URL:
CONTACT:0686713617
ORGANIZER:Yogadouceuretvitalite et association Metafor
ATTACH;FMTTYPE="image/jpeg":http://storage.ning.com/topology/rest/1.0/
 file/get/1662813700?profile=original
ATTENDEE;ROLE=REQ-PARTICIPANT;PARTSTAT=ACCEPTED;RSVP=TRUE;CN=Yogadouce
 uretvitalite:https://epanews.fr/profile/Yogadouceuretvitalite
END:VEVENT
END:VCALENDAR
