BEGIN:VCALENDAR
PRODID:NingEventWidget-v1
VERSION:2.0
METHOD:PUBLISH
BEGIN:VTIMEZONE
TZID:Europe/Paris
X-LIC-LOCATION:Europe/Paris
BEGIN:DAYLIGHT
TZOFFSETFROM:+0100
TZOFFSETTO:+0200
TZNAME:CEST
DTSTART:19700329T020000
RRULE:FREQ=YEARLY;BYMONTH=3;BYDAY=-1SU
END:DAYLIGHT
BEGIN:STANDARD
TZOFFSETFROM:+0200
TZOFFSETTO:+0100
TZNAME:CET
DTSTART:19701025T030000
RRULE:FREQ=YEARLY;BYMONTH=10;BYDAY=-1SU
END:STANDARD
END:VTIMEZONE
BEGIN:VEVENT
UID:2485226:Event:356116
DTSTAMP:20260420T113250Z
SUMMARY:Film sur la conférence de Ian Xel Lungold sur la sagesse maya
  
DESCRIPTION: \nAu sein du FESTIVAL des Nouveaux MONDES 2011 -Voyage a
 u coeur de l'être- du 6 au 14 juillet à CASSIS.\n \n16h CONFERENCE 
 FILMEE  avec IAN XEL LUNGOLD re-découvreur avec le scientifique biol
 ogiste CALLEMAN de la sagesse du calendrier MAYA.\nIl nous explique da
 ns ce film toute la valeur de leur calendrier et comment on peut compr
 endre l'évolution de la conscience universelle.\nExtraordinaire.\n8/6
 € adhérent ou famille.\n\nPour plus d'information, aller sur https:
 //epanews.fr/events/film-sur-la-conference-de-ian
DTSTART;TZID=Europe/Paris:20110713T160000
DTEND;TZID=Europe/Paris:20110713T180000
CATEGORIES:tous
LOCATION:CASSIS 13260
WEBSITE:http://www.associationlesnouveauxmondes.com
URL:http://www.associationlesnouveauxmondes.com
CONTACT:C Culturel 04 42 01 77 73/ Asso 06 14 65 04 48
ORGANIZER;CN="Association Les Nouveaux Mondes":https://epanews.fr/prof
 ile/AssociationLesNouveauxMondes
ATTACH;FMTTYPE="image/jpeg":http://storage.ning.com/topology/rest/1.0/
 file/get/1662428407?profile=original
ATTENDEE;ROLE=REQ-PARTICIPANT;PARTSTAT=ACCEPTED;RSVP=TRUE;CN="Associat
 ion Les Nouveaux Mondes":https://epanews.fr/profile/AssociationLesNouv
 eauxMondes
END:VEVENT
END:VCALENDAR
