BEGIN:VCALENDAR
PRODID:NingEventWidget-v1
VERSION:2.0
METHOD:PUBLISH
BEGIN:VTIMEZONE
TZID:Europe/Paris
X-LIC-LOCATION:Europe/Paris
BEGIN:DAYLIGHT
TZOFFSETFROM:+0100
TZOFFSETTO:+0200
TZNAME:CEST
DTSTART:19700329T020000
RRULE:FREQ=YEARLY;BYMONTH=3;BYDAY=-1SU
END:DAYLIGHT
BEGIN:STANDARD
TZOFFSETFROM:+0200
TZOFFSETTO:+0100
TZNAME:CET
DTSTART:19701025T030000
RRULE:FREQ=YEARLY;BYMONTH=10;BYDAY=-1SU
END:STANDARD
END:VTIMEZONE
BEGIN:VEVENT
UID:2485226:Event:355818
DTSTAMP:20260420T124850Z
SUMMARY:Film SEVERN La voix de nos enfants de Jean-Claude JAUD 
DESCRIPTION:Au sein du FESTIVAL des NOUVEAUX MONDES 2011 -Voyage au co
 eur de l'être- du 6 au 14 juillet à CASSIS.\n \n16h FILM « SEVERN
  » de Jean Claude JAUD (également réalisateur de \"Nos enfants nou
 s accuseront\").\nLa situation de la planète aujourd’hui.\nSevern o
 u le nom de l’enfant de 12 ans qui interpella les responsables du mo
 nde entier à Rio lors de la conférence des Nations Unies sur l’env
 ironnement en 1992. Elle a aujourd'hui 20 ans, attend un enfant et nou
 s donne à découvrir des solutions pour la planète.\n 8€/6€ adh
 érent ou famille.\n\nPour plus d'information, aller sur https://epane
 ws.fr/events/film-severn-la-voix-de-nos
DTSTART;TZID=Europe/Paris:20110710T160000
DTEND;TZID=Europe/Paris:20110710T193000
CATEGORIES:tous
LOCATION:CASSIS 13260
WEBSITE:http://www.associationlesnouveauxmondes.com
URL:http://www.associationlesnouveauxmondes.com
CONTACT:C Culturel 04 42 01 77 73/ Asso 06 14 65 04 48
ORGANIZER;CN="Association Les Nouveaux Mondes":https://epanews.fr/prof
 ile/AssociationLesNouveauxMondes
ATTACH;FMTTYPE="image/jpeg":http://storage.ning.com/topology/rest/1.0/
 file/get/1662426505?profile=original
ATTENDEE;ROLE=REQ-PARTICIPANT;PARTSTAT=ACCEPTED;RSVP=TRUE;CN="Associat
 ion Les Nouveaux Mondes":https://epanews.fr/profile/AssociationLesNouv
 eauxMondes
END:VEVENT
END:VCALENDAR
