BEGIN:VCALENDAR
PRODID:NingEventWidget-v1
VERSION:2.0
METHOD:PUBLISH
BEGIN:VTIMEZONE
TZID:Europe/Paris
X-LIC-LOCATION:Europe/Paris
BEGIN:DAYLIGHT
TZOFFSETFROM:+0100
TZOFFSETTO:+0200
TZNAME:CEST
DTSTART:19700329T020000
RRULE:FREQ=YEARLY;BYMONTH=3;BYDAY=-1SU
END:DAYLIGHT
BEGIN:STANDARD
TZOFFSETFROM:+0200
TZOFFSETTO:+0100
TZNAME:CET
DTSTART:19701025T030000
RRULE:FREQ=YEARLY;BYMONTH=10;BYDAY=-1SU
END:STANDARD
END:VTIMEZONE
BEGIN:VEVENT
UID:2485226:Event:321845
DTSTAMP:20260420T095103Z
SUMMARY:FILM Documentaire WASTE LAND
DESCRIPTION:Au festival des nouveaux Mondes du 6 au 14 juillet 2011\nJ
 EUDI 7 JUILLET\n16h FILM documentaire « WASTE LAND » de Lucy Walke
 r, sur l’art et l’être au cœur de la plus grande décharge mondi
 ale au Brésil. 8€/6€ adhérent ou famille.\n\nPour plus d'informa
 tion, aller sur https://epanews.fr/events/film-documentaire-waste-land
DTSTART;TZID=Europe/Paris:20110707T160000
DTEND;TZID=Europe/Paris:20110707T173000
CATEGORIES:tous
LOCATION:CASSIS 13260
WEBSITE:http://www.associationlesnouveauxmondes.com
URL:http://www.associationlesnouveauxmondes.com
CONTACT:C Culturel 04 42 01 77 73/asso 06 14 65 04 48
ORGANIZER;CN="Association Les Nouveaux Mondes":https://epanews.fr/prof
 ile/AssociationLesNouveauxMondes
ATTACH;FMTTYPE="image/jpeg":http://storage.ning.com/topology/rest/1.0/
 file/get/1662421926?profile=original
ATTENDEE;ROLE=REQ-PARTICIPANT;PARTSTAT=ACCEPTED;RSVP=TRUE;CN="Associat
 ion Les Nouveaux Mondes":https://epanews.fr/profile/AssociationLesNouv
 eauxMondes
END:VEVENT
END:VCALENDAR
