BEGIN:VCALENDAR
PRODID:NingEventWidget-v1
VERSION:2.0
METHOD:PUBLISH
BEGIN:VTIMEZONE
TZID:Europe/Paris
X-LIC-LOCATION:Europe/Paris
BEGIN:DAYLIGHT
TZOFFSETFROM:+0100
TZOFFSETTO:+0200
TZNAME:CEST
DTSTART:19700329T020000
RRULE:FREQ=YEARLY;BYMONTH=3;BYDAY=-1SU
END:DAYLIGHT
BEGIN:STANDARD
TZOFFSETFROM:+0200
TZOFFSETTO:+0100
TZNAME:CET
DTSTART:19701025T030000
RRULE:FREQ=YEARLY;BYMONTH=10;BYDAY=-1SU
END:STANDARD
END:VTIMEZONE
BEGIN:VEVENT
UID:2485226:Event:2887777
DTSTAMP:20260422T010109Z
SUMMARY:Film documentaire \"Le phÃ©nomÃ¨ne de la guÃ©rison\"
DESCRIPTION:Â LE PHÃ‰NOMÃˆNE DE LA GUÃ‰RISON - les activitÃ©s du Cercl
 e des Amis de Bruno GrÃ¶ning dans le monde entierdÃ©crit de maniÃ¨re i
 mpressionnante ce qui sâ€™est passÃ© aprÃ¨s 1959. Les spectateurs appr
 ennent comment lâ€™Å“uvre de Bruno GrÃ¶ning sâ€™est dÃ©veloppÃ©e aprÃ¨
 s son dÃ©cÃ¨s et dans quelle proportion les aides et les guÃ©risons pa
 r voie spirituelle surviennent encore aujourdâ€™hui, indÃ©pendamment d
 e lâ€™appartenance Ã  une religion, de la couleur de la peau et de la 
 culture. Des interviews passionnantes, lâ€™avis spÃ©cialisÃ© des mÃ©de
 cins et les tÃ©moignages des amis de Bruno GrÃ¶ning font apparaÃ®tre l
 a rÃ©alitÃ© extrÃªmement diverse du Cercle des Amis.Le phÃ©nomÃ¨ne de 
 la guÃ©rison en trois parties (98 / 92 / 102 / en tout 292 minutes)Ent
 rÃ©e libre, vos dons sont les bienvenusDimanche 26 novembre de 10h30 Ã
   17h30 (2 pauses incluses, dont dÃ©jeuner)\nemail: bg-f-47@orange.fr\
 n\nPour plus d'information, aller sur https://epanews.fr/events/film-d
 ocumentaire-le-ph-nom-ne-de-la-gu-rison-6
DTSTART;TZID=Europe/Paris:20171126T103000
DTEND;TZID=Europe/Paris:20171126T173000
CATEGORIES:33
LOCATION:Espace Soleil
WEBSITE:http://www.bruno-groening-film.org
URL:http://www.bruno-groening-film.org
CONTACT:07 77 46 35 93
ORGANIZER:Cercle des Amis de Bruno GrÃ¶ning
ATTACH;FMTTYPE="image/jpeg":http://storage.ning.com/topology/rest/1.0/
 file/get/1663696880?profile=original
ATTENDEE;ROLE=REQ-PARTICIPANT;PARTSTAT=ACCEPTED;RSVP=TRUE;CN=Partage:h
 ttps://epanews.fr/profile/Partage
END:VEVENT
END:VCALENDAR
