BEGIN:VCALENDAR
PRODID:NingEventWidget-v1
VERSION:2.0
METHOD:PUBLISH
BEGIN:VTIMEZONE
TZID:Europe/Paris
X-LIC-LOCATION:Europe/Paris
BEGIN:DAYLIGHT
TZOFFSETFROM:+0100
TZOFFSETTO:+0200
TZNAME:CEST
DTSTART:19700329T020000
RRULE:FREQ=YEARLY;BYMONTH=3;BYDAY=-1SU
END:DAYLIGHT
BEGIN:STANDARD
TZOFFSETFROM:+0200
TZOFFSETTO:+0100
TZNAME:CET
DTSTART:19701025T030000
RRULE:FREQ=YEARLY;BYMONTH=10;BYDAY=-1SU
END:STANDARD
END:VTIMEZONE
BEGIN:VEVENT
UID:2485226:Event:2994520
DTSTAMP:20260424T112332Z
SUMMARY:Film documentaire \"Le phénomène Bruno Gröning\"
DESCRIPTION:Ce film documentaire retrace les événements dramatiques 
 de cette époque à l'aide de documents sonores et originaux, de maté
 riel d'archives, de plus de cinquante interviews de témoins de l'épo
 que et des scènes filmées de grande envergure. Tout cela fait du fil
 m un événement fortement impressionnant. \n\nPour plus d'informatio
 n, aller sur https://epanews.fr/events/film-documentaire-le-ph-nom-ne-
 bruno-gr-ning-4
DTSTART;TZID=Europe/Paris:20181201T100000
DTEND;TZID=Europe/Paris:20181201T170000
CATEGORIES:84
LOCATION:Hôtel Ibis
WEBSITE:
URL:
CONTACT:06 09 96 79 09
ORGANIZER:Cercle des amis de Bruno Gröning
ATTACH;FMTTYPE="image/jpeg":http://storage.ning.com/topology/rest/1.0/
 file/get/1663767875?profile=original
ATTENDEE;ROLE=REQ-PARTICIPANT;PARTSTAT=ACCEPTED;RSVP=TRUE;CN=Partage:h
 ttps://epanews.fr/profile/Partage
END:VEVENT
END:VCALENDAR
