BEGIN:VCALENDAR
PRODID:NingEventWidget-v1
VERSION:2.0
METHOD:PUBLISH
BEGIN:VTIMEZONE
TZID:Europe/Paris
X-LIC-LOCATION:Europe/Paris
BEGIN:DAYLIGHT
TZOFFSETFROM:+0100
TZOFFSETTO:+0200
TZNAME:CEST
DTSTART:19700329T020000
RRULE:FREQ=YEARLY;BYMONTH=3;BYDAY=-1SU
END:DAYLIGHT
BEGIN:STANDARD
TZOFFSETFROM:+0200
TZOFFSETTO:+0100
TZNAME:CET
DTSTART:19701025T030000
RRULE:FREQ=YEARLY;BYMONTH=10;BYDAY=-1SU
END:STANDARD
END:VTIMEZONE
BEGIN:VEVENT
UID:2485226:Event:1823471
DTSTAMP:20260420T224036Z
SUMMARY:Film documentaire: Le PhÃ©nomÃ¨ne Bruno GrÃ¶ning
DESCRIPTION:Un succÃ¨s sans prÃ©cÃ©dentÂ   Le film documentaire Â« Le 
 phÃ©nomÃ¨ne Bruno GrÃ¶ning Â» retrace les Ã©vÃ©nements dramatiques de 
 cette Ã©poque et part sur les traces de cet homme hors du commun. Il r
 elate de maniÃ¨re objective et avec beaucoup de sensibilitÃ© les diffÃ
 ©rentes Ã©tapes de la vie et de lâ€™Å“uvre de Bruno GrÃ¶ning. Plus de 
 70 heures de film ont Ã©tÃ© tournÃ©es, plus de 80 tÃ©moins dâ€™Ã©poque
  ont Ã©tÃ© interviewÃ©s et des extraits dâ€™actualitÃ©s et dâ€™Ã©missi
 ons tÃ©lÃ©visÃ©es, ainsi que des documents originaux ont Ã©tÃ© rassemb
 lÃ©s.Â A cela sâ€™ajoutent des scÃ¨nes dispendieuses tournÃ©es avec pl
 us de 2000 figurants. Il en rÃ©sulte cinq heures de film documentaire 
 de grande valeur, divisÃ© en trois parties (2 pauses incluses).  entrÃ
 ©e libre, don volontaire souhaitÃ©Â  Samedi 29 mars 2004 de 10h30 Ã  1
 7h00 Adresse: Restaurant La Pomme d'Or - 27 rue d'Ypres - 59270 Baille
 ulContact et Info: 03 20 37 94 36 ou 06 83 88 14 17  Renseignements:Â 
 www.bruno-groening-film.org\n\nÂ \n\nPour plus d'information, aller su
 r https://epanews.fr/events/film-documentaire-le-ph-nom-ne-bruno-gr-ni
 ng-3
DTSTART;TZID=Europe/Paris:20140329T103000
DTEND;TZID=Europe/Paris:20140329T190000
CATEGORIES:59
LOCATION:Bailleul - Restaurant La Pomme d'Or
WEBSITE:http://www.bruno-groening-film.org
URL:http://www.bruno-groening-film.org
CONTACT:03 20 37 94 36
ORGANIZER;CN=Partage:https://epanews.fr/profile/Partage
ATTACH;FMTTYPE="image/jpeg":http://storage.ning.com/topology/rest/1.0/
 file/get/1663086181?profile=original
ATTENDEE;ROLE=REQ-PARTICIPANT;PARTSTAT=ACCEPTED;RSVP=TRUE;CN=Partage:h
 ttps://epanews.fr/profile/Partage
END:VEVENT
END:VCALENDAR
