BEGIN:VCALENDAR
PRODID:NingEventWidget-v1
VERSION:2.0
METHOD:PUBLISH
BEGIN:VTIMEZONE
TZID:Europe/Paris
X-LIC-LOCATION:Europe/Paris
BEGIN:DAYLIGHT
TZOFFSETFROM:+0100
TZOFFSETTO:+0200
TZNAME:CEST
DTSTART:19700329T020000
RRULE:FREQ=YEARLY;BYMONTH=3;BYDAY=-1SU
END:DAYLIGHT
BEGIN:STANDARD
TZOFFSETFROM:+0200
TZOFFSETTO:+0100
TZNAME:CET
DTSTART:19701025T030000
RRULE:FREQ=YEARLY;BYMONTH=10;BYDAY=-1SU
END:STANDARD
END:VTIMEZONE
BEGIN:VEVENT
UID:2485226:Event:3130349
DTSTAMP:20260426T034218Z
SUMMARY:Fiesta Cruda 2023
DESCRIPTION:La Fête des Figues et de la VieTrois jours de rencontres 
 autour de la vie, la santé globale et la permaculture. Trois jour pou
 r nous retrouver, et faire le plein de soleil, de figues, de raisin et
  d’amour.. Danser, méditer, partager, célébrer la vie… Yoga, ch
 i-kong, musique…\n\nPour plus d'information, aller sur https://epane
 ws.fr/events/fiesta-cruda-2022
DTSTART;TZID=Europe/Paris:20230824T100000
DTEND;TZID=Europe/Paris:20230826T190000
CATEGORIES:espagne
LOCATION:Flores de Vida
WEBSITE:https://www.floresdevida.org/events/fiesta-cruda/
URL:https://www.floresdevida.org/events/fiesta-cruda/
CONTACT:+34 643 11 48 00 (Telegram)
ORGANIZER;CN="Nat'":https://epanews.fr/profile/Nat
ATTACH;FMTTYPE="image/jpeg":https://storage.ning.com/topology/rest/1.0
 /file/get/10208305100?profile=original
ATTENDEE;ROLE=REQ-PARTICIPANT;PARTSTAT=ACCEPTED;RSVP=TRUE;CN="Nat'":ht
 tps://epanews.fr/profile/Nat
END:VEVENT
END:VCALENDAR
