BEGIN:VCALENDAR
PRODID:NingEventWidget-v1
VERSION:2.0
METHOD:PUBLISH
BEGIN:VTIMEZONE
TZID:Europe/Paris
X-LIC-LOCATION:Europe/Paris
BEGIN:DAYLIGHT
TZOFFSETFROM:+0100
TZOFFSETTO:+0200
TZNAME:CEST
DTSTART:19700329T020000
RRULE:FREQ=YEARLY;BYMONTH=3;BYDAY=-1SU
END:DAYLIGHT
BEGIN:STANDARD
TZOFFSETFROM:+0200
TZOFFSETTO:+0100
TZNAME:CET
DTSTART:19701025T030000
RRULE:FREQ=YEARLY;BYMONTH=10;BYDAY=-1SU
END:STANDARD
END:VTIMEZONE
BEGIN:VEVENT
UID:2485226:Event:138678
DTSTAMP:20260419T152135Z
SUMMARY:Fête du Nouvel An 2010-2011
DESCRIPTION:L'évènement à déjà eu lieu : Voir les photos\n____\nL
 e réseau épanews organise une fête de la Saint Sylvestre et un week
 -end convivial avec balades et ateliers. \nJour de l'an : Buffet festi
 f dansant\nNous fournissons les boissons, apportez un plat de fête à
  partager.\n\nWeek-end : Balades et ateliers\nProgramme élaboré sur 
 place en fonction des propositions. Veuillez nous contacter si vous so
 uhaitez animer un atelier (biodanza, qi gong, yoga, tango, massage, co
 nstellation, tantra, mandala, chant, etc.)\n\nVisite du Castelet - Bal
 ades & ateliers au bord de mer\n\nComment participer ?\n• Donnez vos
  intentions de réservation sur le site\n• Bulletin de réservation 
 disponible sur le site\n• Questions/Réponses disponible sur le site
 \nPartager l'info sur Facebook\n\nPour plus d'information, aller sur h
 ttps://epanews.fr/events/fete-du-nouvel-an
DTSTART;TZID=Europe/Paris:20101231T180000
DTEND;TZID=Europe/Paris:20110102T170000
CATEGORIES:tous
LOCATION:La Cadière-d'Azur - St Cyr sur mer
WEBSITE:http://maps.google.fr/maps?source=s_q&f=q&hl=fr&geocode=&q=les
 +residences+du+soleil+la+cadiere+d%27azur&sll=46.75984,1.738281&sspn=1
 1.547161,28.54248&ie=UTF8&oi=map_misc&hq=les+residences+du+soleil+la+c
 adiere+d%27azur&hnear=&t=h&ll=43.19757,5.699726&spn=0.002385,0.003964&
 z=18&iwloc=A
URL:http://maps.google.fr/maps?source=s_q&f=q&hl=fr&geocode=&q=les+res
 idences+du+soleil+la+cadiere+d%27azur&sll=46.75984,1.738281&sspn=11.54
 7161,28.54248&ie=UTF8&oi=map_misc&hq=les+residences+du+soleil+la+cadie
 re+d%27azur&hnear=&t=h&ll=43.19757,5.699726&spn=0.002385,0.003964&z=18
 &iwloc=A
CONTACT:06 67 74 18 18
ORGANIZER;CN=épanews:https://epanews.fr/profile/association_epanews
ATTACH;FMTTYPE="image/jpeg":http://storage.ning.com/topology/rest/1.0/
 file/get/1560238843?profile=original
ATTENDEE;ROLE=REQ-PARTICIPANT;PARTSTAT=ACCEPTED;RSVP=TRUE;CN=CAROLE:ht
 tps://epanews.fr/profile/POQUETCAROLE
ATTENDEE;ROLE=REQ-PARTICIPANT;PARTSTAT=ACCEPTED;RSVP=TRUE;CN="Jackie T
 aylor":https://epanews.fr/profile/JackieTaylor
ATTENDEE;ROLE=REQ-PARTICIPANT;PARTSTAT=ACCEPTED;RSVP=TRUE;CN=ghislaine
 :https://epanews.fr/profile/bucci
ATTENDEE;ROLE=REQ-PARTICIPANT;PARTSTAT=ACCEPTED;RSVP=TRUE;CN="BOUCHARD
  Véronique":https://epanews.fr/profile/BOUCHARDVeronique
ATTENDEE;ROLE=REQ-PARTICIPANT;PARTSTAT=ACCEPTED;RSVP=TRUE;CN="BONNET J
 ean-Pierre":https://epanews.fr/profile/BONNETJeanPierre
ATTENDEE;ROLE=REQ-PARTICIPANT;PARTSTAT=ACCEPTED;RSVP=TRUE;CN="Franck e
 t Nadine Sarah Aubert":https://epanews.fr/profile/FranckAUBERT
ATTENDEE;ROLE=REQ-PARTICIPANT;PARTSTAT=ACCEPTED;RSVP=TRUE;CN=Mo:https:
 //epanews.fr/profile/MoniqueBonnet
ATTENDEE;ROLE=REQ-PARTICIPANT;PARTSTAT=ACCEPTED;RSVP=TRUE;CN="Nicolas 
 Meyer":https://epanews.fr/profile/NicolasMeyer
ATTENDEE;ROLE=REQ-PARTICIPANT;PARTSTAT=ACCEPTED;RSVP=TRUE;CN=letiziawe
 ndy:https://epanews.fr/profile/letiziawendy
ATTENDEE;ROLE=REQ-PARTICIPANT;PARTSTAT=ACCEPTED;RSVP=TRUE;CN=quatrinai
 me:https://epanews.fr/profile/quatrinaime
ATTENDEE;ROLE=REQ-PARTICIPANT;PARTSTAT=ACCEPTED;RSVP=TRUE;CN="Caroline
  Martelly":https://epanews.fr/profile/CarolineMartelly
ATTENDEE;ROLE=REQ-PARTICIPANT;PARTSTAT=ACCEPTED;RSVP=TRUE;CN=interstit
 iel:https://epanews.fr/profile/interstitiel
ATTENDEE;ROLE=REQ-PARTICIPANT;PARTSTAT=ACCEPTED;RSVP=TRUE;CN="Caccamo 
  Joseph":https://epanews.fr/profile/CaccamoJoseph
ATTENDEE;ROLE=REQ-PARTICIPANT;PARTSTAT=ACCEPTED;RSVP=TRUE;CN="VIRGINIE
  LE GALL":https://epanews.fr/profile/VirginieLeGall
ATTENDEE;ROLE=REQ-PARTICIPANT;PARTSTAT=ACCEPTED;RSVP=TRUE;CN="Sophie T
 abourel":https://epanews.fr/profile/SophieTabourel
ATTENDEE;ROLE=REQ-PARTICIPANT;PARTSTAT=ACCEPTED;RSVP=TRUE;CN=Olivier:h
 ttps://epanews.fr/profile/OlivierFAURAN
ATTENDEE;ROLE=REQ-PARTICIPANT;PARTSTAT=ACCEPTED;RSVP=TRUE;CN=Arshi:htt
 ps://epanews.fr/profile/Arshi
ATTENDEE;ROLE=REQ-PARTICIPANT;PARTSTAT=ACCEPTED;RSVP=TRUE;CN="Christin
 e Kattner":https://epanews.fr/profile/ChristineKattner
ATTENDEE;ROLE=REQ-PARTICIPANT;PARTSTAT=ACCEPTED;RSVP=TRUE;CN="Dominiqu
 e Marzini":https://epanews.fr/profile/DominiqueMarzini
ATTENDEE;ROLE=REQ-PARTICIPANT;PARTSTAT=ACCEPTED;RSVP=TRUE;CN=Marie:htt
 ps://epanews.fr/profile/Marie830
ATTENDEE;ROLE=REQ-PARTICIPANT;PARTSTAT=ACCEPTED;RSVP=TRUE;CN=spirit83:
 https://epanews.fr/profile/spirit83
ATTENDEE;ROLE=REQ-PARTICIPANT;PARTSTAT=ACCEPTED;RSVP=TRUE;CN="biotom83
  (Thomas Voisin)":https://epanews.fr/profile/biotom84
ATTENDEE;ROLE=REQ-PARTICIPANT;PARTSTAT=ACCEPTED;RSVP=TRUE;CN="Claude-C
 amille HATTON":https://epanews.fr/profile/ClaudeHATTON
ATTENDEE;ROLE=REQ-PARTICIPANT;PARTSTAT=ACCEPTED;RSVP=TRUE;CN="Dimas Ma
 rie":https://epanews.fr/profile/DimasMarie
ATTENDEE;ROLE=REQ-PARTICIPANT;PARTSTAT=ACCEPTED;RSVP=TRUE;CN=ingrasssi
 a:https://epanews.fr/profile/ingrasssia
ATTENDEE;ROLE=REQ-PARTICIPANT;PARTSTAT=ACCEPTED;RSVP=TRUE;CN="COLLIN g
 illes":https://epanews.fr/profile/COLLINgilles
ATTENDEE;ROLE=REQ-PARTICIPANT;PARTSTAT=ACCEPTED;RSVP=TRUE;CN=elydise:h
 ttps://epanews.fr/profile/elydise
ATTENDEE;ROLE=REQ-PARTICIPANT;PARTSTAT=ACCEPTED;RSVP=TRUE;CN="Françoi
 se Elisabeth":https://epanews.fr/profile/FrancoiseElisabeth
ATTENDEE;ROLE=REQ-PARTICIPANT;PARTSTAT=ACCEPTED;RSVP=TRUE;CN="Marie-La
 ure Will":https://epanews.fr/profile/MarieLaureWill
ATTENDEE;ROLE=REQ-PARTICIPANT;PARTSTAT=ACCEPTED;RSVP=TRUE;CN="jean pau
 l cabanis":https://epanews.fr/profile/jeanpaulcabanis
ATTENDEE;ROLE=REQ-PARTICIPANT;PARTSTAT=ACCEPTED;RSVP=TRUE;CN=Math:http
 s://epanews.fr/profile/lauret
ATTENDEE;ROLE=REQ-PARTICIPANT;PARTSTAT=ACCEPTED;RSVP=TRUE;CN=coy:https
 ://epanews.fr/profile/coy
ATTENDEE;ROLE=REQ-PARTICIPANT;PARTSTAT=ACCEPTED;RSVP=TRUE;CN=Agnès:ht
 tps://epanews.fr/profile/Agnes
ATTENDEE;ROLE=REQ-PARTICIPANT;PARTSTAT=ACCEPTED;RSVP=TRUE;CN="evelyne 
 desplantes":https://epanews.fr/profile/lecoeurdelame
ATTENDEE;ROLE=REQ-PARTICIPANT;PARTSTAT=ACCEPTED;RSVP=TRUE;CN="Martine 
 A.":https://epanews.fr/profile/ALLISIOMartine
ATTENDEE;ROLE=REQ-PARTICIPANT;PARTSTAT=ACCEPTED;RSVP=TRUE;CN=Ambroise:
 https://epanews.fr/profile/Ambroise
ATTENDEE;ROLE=REQ-PARTICIPANT;PARTSTAT=ACCEPTED;RSVP=TRUE;CN=épanews:
 https://epanews.fr/profile/association_epanews
ATTENDEE;ROLE=REQ-PARTICIPANT;PARTSTAT=TENTATIVE;RSVP=TRUE;CN=Crystel:
 https://epanews.fr/profile/sylviegava
ATTENDEE;ROLE=REQ-PARTICIPANT;PARTSTAT=TENTATIVE;RSVP=TRUE;CN="Sophie 
 MALOT":https://epanews.fr/profile/SophieMALOT
ATTENDEE;ROLE=REQ-PARTICIPANT;PARTSTAT=TENTATIVE;RSVP=TRUE;CN="hélèn
 e VIGREUX":https://epanews.fr/profile/heleneVIGREUX
ATTENDEE;ROLE=REQ-PARTICIPANT;PARTSTAT=TENTATIVE;RSVP=TRUE;CN="Marie L
 aure":https://epanews.fr/profile/MarieLaureMasson
ATTENDEE;ROLE=REQ-PARTICIPANT;PARTSTAT=TENTATIVE;RSVP=TRUE;CN=cathia:h
 ttps://epanews.fr/profile/cathia
ATTENDEE;ROLE=REQ-PARTICIPANT;PARTSTAT=TENTATIVE;RSVP=TRUE;CN=QUEFFELE
 C:https://epanews.fr/profile/QUEFFELEC
ATTENDEE;ROLE=REQ-PARTICIPANT;PARTSTAT=TENTATIVE;RSVP=TRUE;CN=faure:ht
 tps://epanews.fr/profile/faure
ATTENDEE;ROLE=REQ-PARTICIPANT;PARTSTAT=TENTATIVE;RSVP=TRUE;CN=Faby:htt
 ps://epanews.fr/profile/baryga
ATTENDEE;ROLE=REQ-PARTICIPANT;PARTSTAT=TENTATIVE;RSVP=TRUE;CN="andraud
  nicole":https://epanews.fr/profile/andraudnicole
ATTENDEE;ROLE=REQ-PARTICIPANT;PARTSTAT=TENTATIVE;RSVP=TRUE;CN="Gabriel
  Baudelet":https://epanews.fr/profile/GabrielBaudelet777
ATTENDEE;ROLE=REQ-PARTICIPANT;PARTSTAT=TENTATIVE;RSVP=TRUE;CN=Bertrand
 :https://epanews.fr/profile/Bertrand86
ATTENDEE;ROLE=REQ-PARTICIPANT;PARTSTAT=TENTATIVE;RSVP=TRUE;CN="Isabell
 e D":https://epanews.fr/profile/IsabelleD
ATTENDEE;ROLE=REQ-PARTICIPANT;PARTSTAT=TENTATIVE;RSVP=TRUE;CN=sunny:ht
 tps://epanews.fr/profile/sunny
ATTENDEE;ROLE=REQ-PARTICIPANT;PARTSTAT=TENTATIVE;RSVP=TRUE;CN=Edith:ht
 tps://epanews.fr/profile/Papillonblue
ATTENDEE;ROLE=REQ-PARTICIPANT;PARTSTAT=TENTATIVE;RSVP=TRUE;CN=monica:h
 ttps://epanews.fr/profile/moniquelengletpollet
ATTENDEE;ROLE=REQ-PARTICIPANT;PARTSTAT=TENTATIVE;RSVP=TRUE;CN=AMBRE:ht
 tps://epanews.fr/profile/AMBRE721
ATTENDEE;ROLE=REQ-PARTICIPANT;PARTSTAT=TENTATIVE;RSVP=TRUE;CN="Yin yan
 g":https://epanews.fr/profile/BrigitteDravet
ATTENDEE;ROLE=REQ-PARTICIPANT;PARTSTAT=TENTATIVE;RSVP=TRUE;CN="Claude 
 - Geneviève Vergier":https://epanews.fr/profile/VergierClaudeGeneviev
 e
ATTENDEE;ROLE=REQ-PARTICIPANT;PARTSTAT=TENTATIVE;RSVP=TRUE;CN="Satya P
 rem":https://epanews.fr/profile/SatyaPrem
ATTENDEE;ROLE=REQ-PARTICIPANT;PARTSTAT=TENTATIVE;RSVP=TRUE;CN="Muriel 
 Dagmar":https://epanews.fr/profile/MurielDagmar
ATTENDEE;ROLE=REQ-PARTICIPANT;PARTSTAT=TENTATIVE;RSVP=TRUE;CN=florence
 :https://epanews.fr/profile/DUBROCHE
ATTENDEE;ROLE=REQ-PARTICIPANT;PARTSTAT=TENTATIVE;RSVP=TRUE;CN="Anne-Ma
 rie PAILLARD":https://epanews.fr/profile/AnneMariePAILLARD
ATTENDEE;ROLE=REQ-PARTICIPANT;PARTSTAT=TENTATIVE;RSVP=TRUE;CN="Dominiq
 ue Defrang":https://epanews.fr/profile/DEFRANG
ATTENDEE;ROLE=REQ-PARTICIPANT;PARTSTAT=TENTATIVE;RSVP=TRUE;CN=Bianca:h
 ttps://epanews.fr/profile/shiatsu
ATTENDEE;ROLE=REQ-PARTICIPANT;PARTSTAT=TENTATIVE;RSVP=TRUE;CN="catheri
 ne lurois":https://epanews.fr/profile/catherinelurois
ATTENDEE;ROLE=REQ-PARTICIPANT;PARTSTAT=TENTATIVE;RSVP=TRUE;CN=helios-s
 ante-bien-etre:https://epanews.fr/profile/sylviamur
ATTENDEE;ROLE=REQ-PARTICIPANT;PARTSTAT=TENTATIVE;RSVP=TRUE;CN=Epicurie
 nne26:https://epanews.fr/profile/marieangeraymondaud
ATTENDEE;ROLE=REQ-PARTICIPANT;PARTSTAT=TENTATIVE;RSVP=TRUE;CN="Maria A
 nnell - EFT Pour Tous":https://epanews.fr/profile/MariaAnnellEFTPourTo
 us
ATTENDEE;ROLE=REQ-PARTICIPANT;PARTSTAT=TENTATIVE;RSVP=TRUE;CN=Tara:htt
 ps://epanews.fr/profile/taraan
ATTENDEE;ROLE=REQ-PARTICIPANT;PARTSTAT=TENTATIVE;RSVP=TRUE;CN=couleuro
 céan:https://epanews.fr/profile/couleurocean
ATTENDEE;ROLE=REQ-PARTICIPANT;PARTSTAT=TENTATIVE;RSVP=TRUE;CN=Presence
 :https://epanews.fr/profile/Presence
ATTENDEE;ROLE=REQ-PARTICIPANT;PARTSTAT=TENTATIVE;RSVP=TRUE;CN="Iris do
 uceur en cévennes":https://epanews.fr/profile/Irisparici
ATTENDEE;ROLE=REQ-PARTICIPANT;PARTSTAT=TENTATIVE;RSVP=TRUE;CN=azazazen
 :https://epanews.fr/profile/azazazen
END:VEVENT
END:VCALENDAR
