BEGIN:VCALENDAR
PRODID:NingEventWidget-v1
VERSION:2.0
METHOD:PUBLISH
BEGIN:VTIMEZONE
TZID:Europe/Paris
X-LIC-LOCATION:Europe/Paris
BEGIN:DAYLIGHT
TZOFFSETFROM:+0100
TZOFFSETTO:+0200
TZNAME:CEST
DTSTART:19700329T020000
RRULE:FREQ=YEARLY;BYMONTH=3;BYDAY=-1SU
END:DAYLIGHT
BEGIN:STANDARD
TZOFFSETFROM:+0200
TZOFFSETTO:+0100
TZNAME:CET
DTSTART:19701025T030000
RRULE:FREQ=YEARLY;BYMONTH=10;BYDAY=-1SU
END:STANDARD
END:VTIMEZONE
BEGIN:VEVENT
UID:2485226:Event:57840
DTSTAMP:20260419T213515Z
SUMMARY:Festival de la Tendresse
DESCRIPTION:FESTIVAL DE LA TENDRESSE\nSoyons tendres avec nous-mÃªme !
 \n\nSamedi 8 Mai 2010\nDe 8h30 Ã  22h\n\nPrix tendre de 10 euros l'ent
 rÃ©e\n\n8h30 RÃ©veil Tendresse\n\n9h Ateliers tendresse au choix :\n\n
 - Les gestes de la tendresse\nLes gestes qui soulagent et qui apporten
 t du rÃ©confort, comment prendre soin de soi et prendre soin de l'autr
 e : automassage, prÃ©sentation d'un massage puis pratique 2 Ã  2.\n\n-
  Exprimez la tendresse par le chant spontanÃ©\nDes jeux de voix au cha
 nt spontanÃ©, un voyage sonore surprenant et ludique pour exprimer la 
 tendresse.\n\n10h30 Pause tendresse\n\n11h Ateliers tendresse au choix
  :\n\n- Psychologie positive : un regard tendre sur soi-mÃªme\nA la dÃ
 ©couverte du regard tendre que les autres peuvent avoir sur nous et du
  regard tendre que l'on peut avoir sur soi-mÃªme face au miroir...\n\n
 - Astrologie : de la \"Carte de Tendre\" Ã  votre \"Carte du Ciel\"\nC
 omment la Tendresse se manifeste-t-elle dans votre thÃ¨me astral ?\n..
 .Pour mieux la vivre !\n\n12h30 Repas douceur tirÃ© du sac\n(Merci d'a
 mener quelques douceurs Ã  manger et Ã  boire tous ensemble)\n\n13h30 
 Sieste tendre\n\n14h Ateliers tendresse au choix :\n\n- Danse intime, 
 danse de la tendresse\nExprimer par la danse libre l'art de la tendres
 se. Un baume pour le corps et le coeur.\n\n- Les mots de la tendresse\
 nUn appel au plaisir de jouer avec les mots pour exprimer la tendresse
  ; bercer, consoler, caresser avec des mots et exprimer les Ã©motions,
  les sentiments, la sensualitÃ©, se confronter Ã  l'altÃ©ritÃ© et s'en
 richir de l'autre, dans une dynamique d'accueil et de don.\n\n15h30 Pa
 use tendresse\n\n16h Ateliers tendresse au choix :\n\n- Astres au Logi
 s de la Tendresse\nQuels liens peut-on faire entre la Tendresse et un 
 thÃ¨me astral ?\nMieux comprendre et ressentir la Tendresse grÃ¢ce Ã  
 l'Astrologie.\n\n- Coaching : De la tendresse dans nos relations\nDoux
  Ã©changes, doux exercices et douces techniques pour amener de la tend
 resse dans vos relations amoureuses, amicales, familiales, professionn
 elles et sociales en gÃ©nÃ©ral. :)\n\n17h30 Happening Tendresse\n\n18h
 30 Doux apÃ©ritif\n\n19h VeloutÃ©s de lÃ©gumes printaniers\n\n20h Soir
 Ã©e Tendresse\n\nPoÃ©sies et textes de la tendresse sur fond de musiqu
 e douce\n\nDÃ©couvrez de belles rimes ou de belles proses inspirÃ©es p
 ar la tendresse ou faites-nous dÃ©couvrir les vÃ´tres !\n\nDÃ©couvrez 
 des instruments pleins de douceur : batons de pluie, sanza, bols tibÃ©
 tains.. ou faites-nous dÃ©couvrir les vÃ´tres !\n\nLieu :\nMaison du B
 ien-Ãªtre de Montpellier Village\n240 rue de la Cadoule\n34070 Montpel
 lier\n\nAccÃ¨s : ArrÃªt de bus \"Les Bouisses\"\nNombreuses places de 
 parking gratuites rue des Bouisses.\n\nVenez avec votre paquet de Cham
 allows !!\n\nInfos et rÃ©servations :\nMail : festitendre@gmail.com\nT
 Ã©lÃ©phone Sabine : 06 21 80 14 21 ou CÃ©cile : 06 35 12 45 64\n\nPour
  plus d'information, aller sur https://epanews.fr/events/festival-de-l
 a-tendresse
DTSTART;TZID=Europe/Paris:20100508T083000
DTEND;TZID=Europe/Paris:20100508T220000
CATEGORIES:34
LOCATION:Maison du Bien-Etre
WEBSITE:
URL:
CONTACT:06 21 80 14 21
ORGANIZER:Sabine, Muriel, CÃ©cile, Isabelle, Franck, Pierre...
ATTACH;FMTTYPE="image/jpeg":http://storage.ning.com/topology/rest/1.0/
 file/get/1662300926?profile=original
ATTENDEE;ROLE=REQ-PARTICIPANT;PARTSTAT=ACCEPTED;RSVP=TRUE;CN=Lalayati:
 https://epanews.fr/profile/LEVEQUE
ATTENDEE;ROLE=REQ-PARTICIPANT;PARTSTAT=ACCEPTED;RSVP=TRUE;CN=Muriel:ht
 tps://epanews.fr/profile/Muriel
END:VEVENT
END:VCALENDAR
