BEGIN:VCALENDAR
PRODID:NingEventWidget-v1
VERSION:2.0
METHOD:PUBLISH
BEGIN:VTIMEZONE
TZID:Europe/Paris
X-LIC-LOCATION:Europe/Paris
BEGIN:DAYLIGHT
TZOFFSETFROM:+0100
TZOFFSETTO:+0200
TZNAME:CEST
DTSTART:19700329T020000
RRULE:FREQ=YEARLY;BYMONTH=3;BYDAY=-1SU
END:DAYLIGHT
BEGIN:STANDARD
TZOFFSETFROM:+0200
TZOFFSETTO:+0100
TZNAME:CET
DTSTART:19701025T030000
RRULE:FREQ=YEARLY;BYMONTH=10;BYDAY=-1SU
END:STANDARD
END:VTIMEZONE
BEGIN:VEVENT
UID:2485226:Event:824917
DTSTAMP:20260421T184821Z
SUMMARY:Le festival Festi'Spirit 22 - 23 - 24 juin 2012 à Trimurti
DESCRIPTION:\n22 - 23 - 24 juin 2012 au centre Trimurti à Cogolin, Va
 r\n3 jours de fêtes et de rencontres  pour célébrer et découvrir l
 a spiritualité d'aujourd'hui !\n\nFesti'Spirit est organisé par Medi
 tationfrance.com et le centre Trimurti\nChers amis et lecteurs de Medi
 tationfrance,\nUn grand festival de la spiritualité est en marche, no
 us recevons beaucoup de soutiens et de messages de sympathie… toute 
 l'équipe du festival travaille avec intensité et passion pour créer
  un évènement inoubliable !\nNous vous invitons à nous rejoindre au
 ssi  pour ce festival en juin 2012.\nRenseignements pour FESTI'SPIRIT 
 : 22-23-24 juin 2012 Centre Trimurti : 04 94 54 44 11 du lundi au same
 di de 9h à 12h et de 14h à 17h Email : trimurti@orange.fr\nwww.festi
 spirit.com\n\nPour plus d'information, aller sur https://epanews.fr/ev
 ents/festi-spirit-les-22-23-24-juin-2012
DTSTART;TZID=Europe/Paris:20120622T000000
DTEND;TZID=Europe/Paris:20120624T235900
CATEGORIES:83
LOCATION:Cogolin (centre Trimurti)
WEBSITE:http://www.festispirit.com/
URL:http://www.festispirit.com/
CONTACT:04 94 54 44 11
ORGANIZER:Trimurti et Meditationfrance
ATTACH;FMTTYPE="image/jpeg":http://storage.ning.com/topology/rest/1.0/
 file/get/1662611918?profile=original
ATTENDEE;ROLE=REQ-PARTICIPANT;PARTSTAT=ACCEPTED;RSVP=TRUE;CN="Emmanuel
  MOULIN":https://epanews.fr/profile/EmmanuelMOULIN
END:VEVENT
END:VCALENDAR
