BEGIN:VCALENDAR
PRODID:NingEventWidget-v1
VERSION:2.0
METHOD:PUBLISH
BEGIN:VTIMEZONE
TZID:Europe/Paris
X-LIC-LOCATION:Europe/Paris
BEGIN:DAYLIGHT
TZOFFSETFROM:+0100
TZOFFSETTO:+0200
TZNAME:CEST
DTSTART:19700329T020000
RRULE:FREQ=YEARLY;BYMONTH=3;BYDAY=-1SU
END:DAYLIGHT
BEGIN:STANDARD
TZOFFSETFROM:+0200
TZOFFSETTO:+0100
TZNAME:CET
DTSTART:19701025T030000
RRULE:FREQ=YEARLY;BYMONTH=10;BYDAY=-1SU
END:STANDARD
END:VTIMEZONE
BEGIN:VEVENT
UID:2485226:Event:2814360
DTSTAMP:20260420T112553Z
SUMMARY:Fenêtre du Solstice à Bugarash
DESCRIPTION:du 21 au 25 juin : La fenêtre du Solstice\nou Comment le
  pic du rayonement solaire et de l'extériorisation de la lumière va 
 nous amenez à rayonner notre propre soleil interieur et exprimer la
  joie de vivre!\nVéritable passage initiatique du solstice à la Sai
 nt Jean, nous passerons ces quelques jours dans l'énergie du Mont Bug
 arash et vivrons au rythme des surprises que la vie aura concocté pou
 r nous.\nRdv le 21 à 14h à Bugarah (11) fin le 25 à 12h30. 4 jours 
 et 4 nuits\n\nPour plus d'information, aller sur https://epanews.fr/e
 vents/fen-tre-du-solstice-bugarash
DTSTART;TZID=Europe/Paris:20170621T140000
DTEND;TZID=Europe/Paris:20170625T003000
CATEGORIES:11
LOCATION:Bugarash
WEBSITE:http://isabellerose.fr/agenda/
URL:http://isabellerose.fr/agenda/
CONTACT:06.50.52.96.21
ORGANIZER;CN="isabelle Rose":https://epanews.fr/profile/isabelleRose
ATTACH;FMTTYPE="image/jpeg":http://storage.ning.com/topology/rest/1.0/
 file/get/1663655299?profile=original
ATTENDEE;ROLE=REQ-PARTICIPANT;PARTSTAT=ACCEPTED;RSVP=TRUE;CN="isabelle
  Rose":https://epanews.fr/profile/isabelleRose
END:VEVENT
END:VCALENDAR
