BEGIN:VCALENDAR
PRODID:NingEventWidget-v1
VERSION:2.0
METHOD:PUBLISH
BEGIN:VTIMEZONE
TZID:Europe/Paris
X-LIC-LOCATION:Europe/Paris
BEGIN:DAYLIGHT
TZOFFSETFROM:+0100
TZOFFSETTO:+0200
TZNAME:CEST
DTSTART:19700329T020000
RRULE:FREQ=YEARLY;BYMONTH=3;BYDAY=-1SU
END:DAYLIGHT
BEGIN:STANDARD
TZOFFSETFROM:+0200
TZOFFSETTO:+0100
TZNAME:CET
DTSTART:19701025T030000
RRULE:FREQ=YEARLY;BYMONTH=10;BYDAY=-1SU
END:STANDARD
END:VTIMEZONE
BEGIN:VEVENT
UID:2485226:Event:315911
DTSTAMP:20260426T005225Z
SUMMARY:Femme Solaire/Homme Lunaire
DESCRIPTION:Nous vous rappelons que le stage Femme Solaire/Homme Lunai
 re qui est toujours un moment exceptionnel aura lieu du 22 au 27 juill
 et, nous enregistrons de nombreuses inscriptions féminines et nous es
 pérons que les hommes se manifesteront comme chaque année avec entho
 usiasme. Pour tous renseignements, merci de contacter le secrétariat 
 de Paule Salomon : secretariat@paulesalomon.org ou 04 93 60 36 08\npri
 x du stage hors hébergement : 575 €\n \n\nPour plus d'information,
  aller sur https://epanews.fr/events/femme-solairehomme-lunaire
DTSTART;TZID=Europe/Paris:20110722T180000
DTEND;TZID=Europe/Paris:20110727T170000
CATEGORIES:83
LOCATION:Toulon
WEBSITE:http://www.trimurti-seminaires.com
URL:http://www.trimurti-seminaires.com
CONTACT:04 94 54 44 11
ORGANIZER;CN=TRIMURTI:https://epanews.fr/profile/TRIMURTI
ATTACH;FMTTYPE="image/jpeg":
ATTENDEE;ROLE=REQ-PARTICIPANT;PARTSTAT=ACCEPTED;RSVP=TRUE;CN=TRIMURTI:
 https://epanews.fr/profile/TRIMURTI
END:VEVENT
END:VCALENDAR
