BEGIN:VCALENDAR
PRODID:NingEventWidget-v1
VERSION:2.0
METHOD:PUBLISH
BEGIN:VTIMEZONE
TZID:Europe/Paris
X-LIC-LOCATION:Europe/Paris
BEGIN:DAYLIGHT
TZOFFSETFROM:+0100
TZOFFSETTO:+0200
TZNAME:CEST
DTSTART:19700329T020000
RRULE:FREQ=YEARLY;BYMONTH=3;BYDAY=-1SU
END:DAYLIGHT
BEGIN:STANDARD
TZOFFSETFROM:+0200
TZOFFSETTO:+0100
TZNAME:CET
DTSTART:19701025T030000
RRULE:FREQ=YEARLY;BYMONTH=10;BYDAY=-1SU
END:STANDARD
END:VTIMEZONE
BEGIN:VEVENT
UID:2485226:Event:2545220
DTSTAMP:20260423T182102Z
SUMMARY:Femmes et Hommes sauvages : autoportrait d'un Ãªtre contempora
 ins
DESCRIPTION:FEMME et HOMME SAUVAGEÂ : AUTOPORTRAIT Dâ€™UN ÃŠTRE CONTEM
 PORAIN\nÂ  Â  Â  Â  Â Â -Â Â  Comment prendre du recul par rapport aux
  personnalitÃ©s internes crÃ©Ã©es depuis la naissance et sortir des id
 entifications aux traits de caractÃ¨res limitants ?\nÂ Â Â Â Â Â Â Â Â
   -Â Â Â  Quels ressorts pour entrer en contact avec les univers multi
 ples de son IdentitÃ© et incarner des facettes soutenantes de son moi 
 profond ?\nÂ Â Â Â Â Â Â Â Â Â  -Â  Quelles ressources pour gÃ©nÃ©rer 
 un alignement positif (corps, verbe, Ã©motion, pensÃ©e) afin de vivre 
 pleinement et ancrer ses ambitions et ses rÃªves dans des expÃ©riences
  vivantes ?\n\nEt si le processus de l'autoportrait pouvait nous accom
 pagner dansÂ l'exploration et l'intÃ©gration d'un Je suis inÃ©ditÂ  ?Â
  \n\nÂ Lâ€™Autoportrait est une approche spÃ©cifique et unique au LIFE
  ART PROCESS - Anna Halprin*\nC'est comme une Â«Â quÃªte de visionÂ Â»
  avec des outils et une mÃ©thode contemporaine. Pour cette quÃªte le L
 ife Art Process donne la parole au corps, s'appuie sur l'intermodalitÃ
 © artistique (allers/retour entre mouvement, dessin, Ã©criture et voix
 ) et se relie intimement Ã  Â«Â l'ici et maintenantÂ Â» Ã  travers les
  trois niveaux de conscience (physique, Ã©motionnel et mental/imagnair
 e).\nLe processus vous invite Ã  questionner et explorer votre Identit
 Ã© profonde et Ã©largie. Il vous iconduit Ã  vous voir avec un regard 
 inÃ©dit et Ã  vous penser avec une fraÃ®cheur nouvelle.\nÂ \nLâ€™ensem
 ble du cheminement donne lieu Ã  lâ€™Ã©mergence de nouvelles possibili
 tÃ©s et convoque des faÃ§ons dâ€™Ãªtre diffÃ©rentes en sâ€™appuyant su
 r des ressources nouvelles et inhabituelles.\nÂ Â Lâ€™autoportrait câ€
 ™est â€¦.\n\nUn rendez-vous avec soi-mÃªme et avec la fertilitÃ©, la f
 ragilitÃ© et l'ingÃ©niositÃ© de la vie qui nous traverse.\nUn voyage v
 ers la restauration du dialogue entre notre nature sauvage et notre co
 ndition de Femmes et dâ€™Hommes contemporains.\nUn itinÃ©raire que cha
 cun invente pour se relier Ã  la force et lâ€™intelligence de vie nich
 Ã©e au cÅ“ur des cellules et tout autour de nous.\nUn espace privilÃ©g
 iÃ© pour explorer sa matiÃ¨re organique, sensorielle, Ã©motionnelle et
  imaginaire et remettre Ã  jour la carte qui nous sert de guide dans l
 a vie.\nUne pratique intimement reliÃ©e au Ici et Maintenant, orientÃ©
 e ressources et permettant de se penser avec une fraÃ®cheur nouvelle\n
 Une expÃ©rience pour tous qui plonge dans lâ€™acte de crÃ©er sans atte
 nte de rÃ©sultat esthÃ©tique.\n\nSTAGE OUVERT A TOUS, AUCUNE EXPERIENC
 E REQUISE\n\nPour plus d'information, aller sur https://epanews.fr/eve
 nts/femme-et-homme-sauvage-autoportrait-d-un-tre-contemporain
DTSTART;TZID=Europe/Paris:20160801T090000
DTEND;TZID=Europe/Paris:20160805T190000
CATEGORIES:73
LOCATION:marsaz Drome
WEBSITE:http://www.terrededance.com
URL:http://www.terrededance.com
CONTACT:
ORGANIZER;CN=beatricemaine:https://epanews.fr/profile/beatricemaine
ATTACH;FMTTYPE="image/jpeg":http://storage.ning.com/topology/rest/1.0/
 file/get/1663505521?profile=original
ATTENDEE;ROLE=REQ-PARTICIPANT;PARTSTAT=ACCEPTED;RSVP=TRUE;CN=beatricem
 aine:https://epanews.fr/profile/beatricemaine
END:VEVENT
END:VCALENDAR
