BEGIN:VCALENDAR
PRODID:NingEventWidget-v1
VERSION:2.0
METHOD:PUBLISH
BEGIN:VTIMEZONE
TZID:Europe/Paris
X-LIC-LOCATION:Europe/Paris
BEGIN:DAYLIGHT
TZOFFSETFROM:+0100
TZOFFSETTO:+0200
TZNAME:CEST
DTSTART:19700329T020000
RRULE:FREQ=YEARLY;BYMONTH=3;BYDAY=-1SU
END:DAYLIGHT
BEGIN:STANDARD
TZOFFSETFROM:+0200
TZOFFSETTO:+0100
TZNAME:CET
DTSTART:19701025T030000
RRULE:FREQ=YEARLY;BYMONTH=10;BYDAY=-1SU
END:STANDARD
END:VTIMEZONE
BEGIN:VEVENT
UID:2485226:Event:201907
DTSTAMP:20260421T151638Z
SUMMARY:\"Faites sans O.G.M
DESCRIPTION:LA FACE CACHEE DES OGM : COMMENT REPONDRE AUX PROBLEMATIQU
 ES ETHIQUES, SOCIALES ET ENVIRONNEMENTALES LIEES AUX OGM DANS LE MONDE
  \n \nNOUS VOUS INVITONS DONC \nPOUR PARTICIPER A LA CONSTRUCTION D
 'UNE RESISTANCE MONDIALE AUX OGM ET A L'AGROBUSINESS \n\nPour plus d'
 information, aller sur https://epanews.fr/events/faites-sans-ogm
DTSTART;TZID=Europe/Paris:20110211T000000
DTEND;TZID=Europe/Paris:20110212T235900
CATEGORIES:84
LOCATION:le thor
WEBSITE:http://84sansogm.sosblog.fr/84-sans-OGM-b1/Faites-sans-OGM-3-e
 dition-GMO-Forum-International-b1-p59418.htm
URL:http://84sansogm.sosblog.fr/84-sans-OGM-b1/Faites-sans-OGM-3-editi
 on-GMO-Forum-International-b1-p59418.htm
CONTACT:
ORGANIZER:le collectif 84 sans O.G.M
ATTACH;FMTTYPE="image/jpeg":http://storage.ning.com/topology/rest/1.0/
 file/get/1662386324?profile=original
ATTENDEE;ROLE=REQ-PARTICIPANT;PARTSTAT=ACCEPTED;RSVP=TRUE;CN="Agnes Pi
 ller":https://epanews.fr/profile/AgnesPiller
END:VEVENT
END:VCALENDAR
