BEGIN:VCALENDAR
PRODID:NingEventWidget-v1
VERSION:2.0
METHOD:PUBLISH
BEGIN:VTIMEZONE
TZID:Europe/Paris
X-LIC-LOCATION:Europe/Paris
BEGIN:DAYLIGHT
TZOFFSETFROM:+0100
TZOFFSETTO:+0200
TZNAME:CEST
DTSTART:19700329T020000
RRULE:FREQ=YEARLY;BYMONTH=3;BYDAY=-1SU
END:DAYLIGHT
BEGIN:STANDARD
TZOFFSETFROM:+0200
TZOFFSETTO:+0100
TZNAME:CET
DTSTART:19701025T030000
RRULE:FREQ=YEARLY;BYMONTH=10;BYDAY=-1SU
END:STANDARD
END:VTIMEZONE
BEGIN:VEVENT
UID:2485226:Event:1054266
DTSTAMP:20260423T012516Z
SUMMARY:Faire une pause au coeur de la vie quotidienne
DESCRIPTION:je vous propose de prendre un moment pour vous, de bien ê
 tre, de plaisir et de le partager ensemble dans un lieu magnifique.\ns
 ous le stress de la vie, il y a un état de calme, de sérénité qui 
 est là, caché mais bien présent, et il n'attend qu'une seule chose 
 c'est que vous le retrouviez.\nprogramme : relaxations en mouvement, p
 ratique de pleine conscience, méditation centrée sur la respiration,
  techniques de lâcher prise corporel\n\nPour plus d'information, alle
 r sur https://epanews.fr/events/faire-une-pause-au-coeur-de-la-vie-quo
 tidienne
DTSTART;TZID=Europe/Paris:20130112T103000
DTEND;TZID=Europe/Paris:20130112T124500
CATEGORIES:66
LOCATION:Mas Flores de Llum
WEBSITE:http://www.lavoiedelenvol.com
URL:http://www.lavoiedelenvol.com
CONTACT:06 03 61 47 91
ORGANIZER;CN="catherine crohin":https://epanews.fr/profile/catherinecr
 ohin
ATTACH;FMTTYPE="image/jpeg":http://storage.ning.com/topology/rest/1.0/
 file/get/1662720750?profile=original
ATTENDEE;ROLE=REQ-PARTICIPANT;PARTSTAT=ACCEPTED;RSVP=TRUE;CN="catherin
 e crohin":https://epanews.fr/profile/catherinecrohin
END:VEVENT
END:VCALENDAR
