BEGIN:VCALENDAR
PRODID:NingEventWidget-v1
VERSION:2.0
METHOD:PUBLISH
BEGIN:VTIMEZONE
TZID:Europe/Paris
X-LIC-LOCATION:Europe/Paris
BEGIN:DAYLIGHT
TZOFFSETFROM:+0100
TZOFFSETTO:+0200
TZNAME:CEST
DTSTART:19700329T020000
RRULE:FREQ=YEARLY;BYMONTH=3;BYDAY=-1SU
END:DAYLIGHT
BEGIN:STANDARD
TZOFFSETFROM:+0200
TZOFFSETTO:+0100
TZNAME:CET
DTSTART:19701025T030000
RRULE:FREQ=YEARLY;BYMONTH=10;BYDAY=-1SU
END:STANDARD
END:VTIMEZONE
BEGIN:VEVENT
UID:2485226:Event:1922356
DTSTAMP:20260421T155447Z
SUMMARY:Fabriquer mon tambour chamanique en CÃ©vennes
DESCRIPTION:Â« Mon tambour mÃ©decine, cet ami intimeâ€¦Â»â€‹Ce stage a
 nimÃ© par JoÃ«l LÃ©vÃªque se dÃ©roule au campement \"Autour des Tambou
 rs\" Ã  CROS (30170).Construire un tambour est un acte rituel et sacrÃ
 © qui demande de l'attention. Le tambour est un des outils chamaniques
  que l'on dÃ©sire acquÃ©rir en premier. Il est beau, puissant, il chan
 te, vibre et il a une Ã¢me, il associe matiÃ¨re et spiritualitÃ©. Il e
 st utilisÃ© par pratiquement toutes les traditions chamaniques, il per
 met de se relier aux Ã©lÃ©ments de l'univers. C'est un outil de guÃ©ri
 son et de voyage, pour soi et pour les autres.Une fois rÃ©alisÃ©, vous
  aurez la satisfaction d'avoir votre Â«tambour mÃ©decineÂ».Votre tambo
 ur sera unique, il sera le fruit de votre crÃ©ativitÃ©, de vos intenti
 ons profondes, il sera votre ami intime.La construction du tambour est
  accompagnÃ©e de rituels sacrÃ©s, de voyages chamaniques, comment char
 ger son tambourâ€¦Tambour traditionnel d'environ 40 cm de diamÃ¨tre av
 ec cercle en frÃªne et peau de chÃ¨vre ou peau de cerf.NouveautÃ© : vo
 us avez la possibilitÃ© de fabriquer des tambours \"tout temps\" en pe
 au de cerf ou de chÃ¨vre, qui vous permettent de jouer mÃªme lorsqu'il
  fait humide sans avoir Ã  les chauffer.- Accueil le mardi 17 juin Ã  
 9h30- Fin du stage le mercredi 18 juin Ã  17h00 Les Tarifs : Prix du s
 tage 260 â‚¬* comprenant fourniture peau (chÃ¨vre, bouc, daim) + cercl
 e et prÃªt du matÃ©riel de construction (+ 20 â‚¬ pour une peau de cer
 f)  Information et inscription : Joel LEVEQUE. Nous prenons en compte 
 votre inscription Ã  la rÃ©ception de 100 â‚¬ d'arrhes Ã  l'ordre de l
 'association Autour des Tambours.En retour vous recevrez l'itinÃ©raire
  prÃ©cis pour accÃ©der sur le lieu du stage ainsi qu'une petite liste 
 d'affaires Ã  prÃ©voir.\n\nAssociation \"Autour des tambours\"Mas Lafo
 nt30170 CROS06 80 46 35 18 levequejoel2005@yahoo.fr https://www.facebo
 ok.com/autourdestambourshttp://www.joel-leveque.com\nâ€‹\n\nPour plus 
 d'information, aller sur https://epanews.fr/events/fabriquer-mon-tambo
 ur-chamanique-en-c-vennes
DTSTART;TZID=Europe/Paris:20140617T093000
DTEND;TZID=Europe/Paris:20140618T170000
CATEGORIES:30
LOCATION:Campement Autour des Tambours
WEBSITE:http://www.joel-leveque.com
URL:http://www.joel-leveque.com
CONTACT:06 80 46 35 18
ORGANIZER;CN=joel:https://epanews.fr/profile/joel495
ATTACH;FMTTYPE="image/jpeg":http://storage.ning.com/topology/rest/1.0/
 file/get/1663138658?profile=original
ATTENDEE;ROLE=REQ-PARTICIPANT;PARTSTAT=ACCEPTED;RSVP=TRUE;CN=joel:http
 s://epanews.fr/profile/joel495
END:VEVENT
END:VCALENDAR
