BEGIN:VCALENDAR
PRODID:NingEventWidget-v1
VERSION:2.0
METHOD:PUBLISH
BEGIN:VTIMEZONE
TZID:Europe/Paris
X-LIC-LOCATION:Europe/Paris
BEGIN:DAYLIGHT
TZOFFSETFROM:+0100
TZOFFSETTO:+0200
TZNAME:CEST
DTSTART:19700329T020000
RRULE:FREQ=YEARLY;BYMONTH=3;BYDAY=-1SU
END:DAYLIGHT
BEGIN:STANDARD
TZOFFSETFROM:+0200
TZOFFSETTO:+0100
TZNAME:CET
DTSTART:19701025T030000
RRULE:FREQ=YEARLY;BYMONTH=10;BYDAY=-1SU
END:STANDARD
END:VTIMEZONE
BEGIN:VEVENT
UID:2485226:Event:1566212
DTSTAMP:20260421T084248Z
SUMMARY:FÃªter noÃ«l dans le dÃ©sert tunisien
DESCRIPTION:NoÃ«l dans le dÃ©sert Tunisien\nMarche en conscience dans 
 le dÃ©sert de Catherine Desplanques et AgnÃ¨s Hubert\n\ncliquez sur le
  lien suivant :\n\nNoÃ«l 2013 dans l'erg tunisien\nCÃ©lÃ©brons NoÃ«l d
 u 22 au 29 dÃ©cembre 2013\n\n\nCâ€™est avec beaucoup de joie et dâ€™Ã©
 motionÂ que nous vousÂ  proposons ce sÃ©jour dâ€™une semaine pour alle
 r dÃ©poser nos intentions de renaissanceÂ dans cet environnement magni
 fique et grandiose, propice Ã  la contemplation et aux marches mÃ©dita
 tives !\n Ce voyage est une invitation Ã  cheminer vers nous-mÃªmes au
  rythme du temps dans leÂ dÃ©sert !Â  Sâ€™ouvrir Ã  la rÃ©conciliation
 ... Ã  la PrÃ©sence... dans l'alchimie de la beautÃ© mystique du dÃ©se
 rt et de son Ã©nergie puissante.\nLa magie du dÃ©sert favorise l'Ã©mer
 gence de notre ÃŠtre essentiel. Ce voyage est ouvert aux adultes ainsi
  qu'aux familles avec les enfants Ã  partir de 12 ans qui ont envie de
  vivre ensemble laÂ fÃ©erieÂ d'un noÃ«l diffÃ©rentÂ \n\n\n\nÂ  Â  Â Lâ
 €™autolouangeÂ nous aidera Ã  nous rÃ©concilier avec notre estime pers
 onnelle, notre grandeur dâ€™Ã¢me\nÂ©Â Â Â Â Â Â Â La crÃ©ativitÃ©Â nou
 s reconnectera Ã  notre sourceÂ  etÂ Â le cahier de voyageÂ immortalis
 era ces moments prÃ©cieux\nÂ©Â Â Â Â Â Â Â La mÃ©ditation, le channeli
 ngÂ  participeront Ã  nous recentrer,Â Â en nous ramenant dans notre p
 rofondeur, apaisant notreÂ Â mental et nous rendant disponible Ã  la m
 agie du dÃ©sert etÂ Â Ã  l'Å“uvre de la PrÃ©sence en nous-mÃªmes\n\n\n
 \nDÃ©couvrir le dÃ©sert Ã  travers nos sensâ€¦ dÃ©velopper notre intui
 tion, notre crÃ©ativitÃ©, notre perceptionâ€¦Â  Ce voyage est une invi
 tation Ã  nourrir notre Ã¢me en alliant des temps de marche avec des t
 emps libres, de silence, d'ateliers, et avec des temps d'expression de
  nos cÅ“urs (danse, musique, dessin, chant, cercle dâ€™Ã©criture et de
  lecture, cÃ©rÃ©monies du HennÃ© et du feu, â€¦).Â  Une invitation Ã  
 traverser le paraÃ®tre pour aller contacter le Soi. \nÃŠtre simplement
  en harmonie avec soi, les autres et lâ€™environnement !\nNous explore
 rons ensemble les voies auxquellesÂ  notre prÃ©sent nous invitera.\nJo
 ur aprÃ¨s jour,Â  naissons Ã  la Vie, rÃ© enchantons-nous !\n\n\n\n\nP
 our plus d'information, aller sur https://epanews.fr/events/f-ter-no-l
 -dans-le-d-sert-tunisien
DTSTART;TZID=Europe/Paris:20131222T000000
DTEND;TZID=Europe/Paris:20131229T235900
CATEGORIES:44
LOCATION:DÃ©sert Tunisien
WEBSITE:http://voyagetunisien.blogspot.fr/
URL:http://voyagetunisien.blogspot.fr/
CONTACT:0675240591
ORGANIZER;CN="Catherine Desplanques":https://epanews.fr/profile/CatD44
ATTACH;FMTTYPE="image/jpeg":http://storage.ning.com/topology/rest/1.0/
 file/get/1662941118?profile=original
ATTENDEE;ROLE=REQ-PARTICIPANT;PARTSTAT=ACCEPTED;RSVP=TRUE;CN="Catherin
 e Desplanques":https://epanews.fr/profile/CatD44
END:VEVENT
END:VCALENDAR
