BEGIN:VCALENDAR
PRODID:NingEventWidget-v1
VERSION:2.0
METHOD:PUBLISH
BEGIN:VTIMEZONE
TZID:Europe/Paris
X-LIC-LOCATION:Europe/Paris
BEGIN:DAYLIGHT
TZOFFSETFROM:+0100
TZOFFSETTO:+0200
TZNAME:CEST
DTSTART:19700329T020000
RRULE:FREQ=YEARLY;BYMONTH=3;BYDAY=-1SU
END:DAYLIGHT
BEGIN:STANDARD
TZOFFSETFROM:+0200
TZOFFSETTO:+0100
TZNAME:CET
DTSTART:19701025T030000
RRULE:FREQ=YEARLY;BYMONTH=10;BYDAY=-1SU
END:STANDARD
END:VTIMEZONE
BEGIN:VEVENT
UID:2485226:Event:858807
DTSTAMP:20260422T141353Z
SUMMARY:week end fête de la lavande à MONTBRUN Luberon
DESCRIPTION:C'est le moment ou jamais de se fournir de l'huile essenti
 elle de Lavande avec la fête de la lavande qui a lieue dans un très
  beau village du haut Luberon: Montbrun\nnous allons camper samedi soi
 r au camping de Valsaintes apres Oppedette\nprevoir le repas du soir e
 t le petit déjeuner.\nle dimanche fête de la lavande à Montbrun\nde
 part de St Cyr sur Mer à 15h00\n\nPour plus d'information, aller sur 
 https://epanews.fr/events/f-te-de-la-lavande-montbrun-luberon
DTSTART;TZID=Europe/Paris:20120630T150000
DTEND;TZID=Europe/Paris:20120701T190000
CATEGORIES:84
LOCATION:Vaucluse
WEBSITE:
URL:
CONTACT:0660463092
ORGANIZER;CN=danielstcyrsurmer:https://epanews.fr/profile/danielstcyrs
 urmer
ATTACH;FMTTYPE="image/jpeg":http://storage.ning.com/topology/rest/1.0/
 file/get/1662626817?profile=original
ATTENDEE;ROLE=REQ-PARTICIPANT;PARTSTAT=ACCEPTED;RSVP=TRUE;CN=danielstc
 yrsurmer:https://epanews.fr/profile/danielstcyrsurmer
END:VEVENT
END:VCALENDAR
