BEGIN:VCALENDAR
PRODID:NingEventWidget-v1
VERSION:2.0
METHOD:PUBLISH
BEGIN:VTIMEZONE
TZID:Europe/Paris
X-LIC-LOCATION:Europe/Paris
BEGIN:DAYLIGHT
TZOFFSETFROM:+0100
TZOFFSETTO:+0200
TZNAME:CEST
DTSTART:19700329T020000
RRULE:FREQ=YEARLY;BYMONTH=3;BYDAY=-1SU
END:DAYLIGHT
BEGIN:STANDARD
TZOFFSETFROM:+0200
TZOFFSETTO:+0100
TZNAME:CET
DTSTART:19701025T030000
RRULE:FREQ=YEARLY;BYMONTH=10;BYDAY=-1SU
END:STANDARD
END:VTIMEZONE
BEGIN:VEVENT
UID:2485226:Event:1937425
DTSTAMP:20260424T014413Z
SUMMARY:FÃ©minin sacrÃ©-NaÃ®tre Ã  sa fÃ©minitÃ©-NaÃ®tre Ã  ses pouvoi
 rs fÃ©minin Ã  Caen, France
DESCRIPTION:NAÃŽTRE Ã€ SA FÃ‰MINITÃ‰ â€“ FÃ‰MININ SACRÃ‰\n- LibÃ©ratio
 n des cuirasses de sa fÃ©minitÃ© et Initiation Ã  sa puissance fÃ©mini
 ne et au FÃ©minin SacrÃ© -Â \npar le sÃ©minaireÂ \nÂ« NAÃŽTRE Ã€ SA FÃ
 ‰MINITÃ‰Â©, NaÃ®tre Ã  ses pouvoirs fÃ©minins Â»Â \n\nÃ  Caen (France)
 : 20-21-22-23 novembre 2014Â (4 jours)\n\nLe sÃ©minaire Â«Â NaÃ®tre Ã 
  sa fÃ©minitÃ©Â©, naÃ®tre Ã  ses pouvoirs fÃ©mininsÂ Â»Â est une intro
 duction au merveilleux monde du FÃ©minin SacrÃ© de son Ãªtre.Â Il perm
 et de libÃ©rer ce qui limite lâ€™expression de sa fÃ©minitÃ© et surtou
 t de reconnaÃ®tre sa puissance fÃ©minine et de lâ€™honorer.\nLes objec
 tifs du sÃ©minaire sont:\n- DÃ©couvrir, Ã©veiller, reconnaÃ®tre et hon
 orer sa polaritÃ© fÃ©minine et ses pouvoirs fÃ©minins\n- Rencontrer le
 s dimensions les plus belles et les plus sacrÃ©es du FÃ©minin en soi: 
 lunaire, sensible, Ã©motive, intuitive, crÃ©atrice, guÃ©risseuse, dÃ©e
 sse\n- LibÃ©rer ses cuirasses physiques, Ã©motionnelles et mentales de
  son Ã©nergie fÃ©minine\n- DÃ©couvrir la voie des 12 Ã©tapes initiatiq
 ues du FÃ©minin SacrÃ© en soi\n- GuÃ©rir sa relation avec les femmes, 
 avec lâ€™Ã©nergie fÃ©minine et son FÃ©minin intÃ©rieur (Anima)\n- Sâ€™
 initier au FÃ©minin SacrÃ©, Ã  la Voie sacrÃ©e du corps et Ã  la Voie 
 sacrÃ©e du couple intÃ©rieur\nCe sÃ©minaire sâ€™adresse autant aux fem
 mes quâ€™aux hommes.\nN.B.:Â Ce sÃ©minaire fait partie de la formation
  dâ€™Ã©panouissement personnel :Â La Voie SacrÃ©e du FÃ©minin et du Ma
 sculin\nAu programme:Â Mouvements dâ€™Ã©veil corporels et outils de la
  MÃ©thode de LibÃ©ration des Cuirasses MLC â€“ Imageries et visualisat
 ions de la MÃ©thode Images de Transformation â€“ Jeux de cartes intuit
 ives crÃ©Ã©es par Sylvie LÃ¼na sur le thÃ¨me du sÃ©minaire â€“ Temps d
 e mÃ©ditation â€“ Rituels sacrÃ©s â€“ Expression crÃ©atrice\n\nPour pl
 us d'information, aller sur https://epanews.fr/events/f-minin-sacr-na-
 tre-sa-f-minit-na-tre-ses-pouvoirs-f-minin-caen
DTSTART;TZID=Europe/Paris:20141120T000000
DTEND;TZID=Europe/Paris:20141123T235900
CATEGORIES:14
LOCATION:Caen
WEBSITE:http://femininsacre.com/events/feminin-sacre-naitre-sa-feminit
 e-naitre-ses-pouvoirs-feminins-caen-france/
URL:http://femininsacre.com/events/feminin-sacre-naitre-sa-feminite-na
 itre-ses-pouvoirs-feminins-caen-france/
CONTACT:
ORGANIZER;CN="Sylvie BÃ©rubÃ© (LÃ¼na)":https://epanews.fr/profile/Sylv
 ieBerubeLuena
ATTACH;FMTTYPE="image/jpeg":http://storage.ning.com/topology/rest/1.0/
 file/get/1663151451?profile=original
ATTENDEE;ROLE=REQ-PARTICIPANT;PARTSTAT=ACCEPTED;RSVP=TRUE;CN="Sylvie B
 Ã©rubÃ© (LÃ¼na)":https://epanews.fr/profile/SylvieBerubeLuena
END:VEVENT
END:VCALENDAR
