BEGIN:VCALENDAR
PRODID:NingEventWidget-v1
VERSION:2.0
METHOD:PUBLISH
BEGIN:VTIMEZONE
TZID:Europe/Paris
X-LIC-LOCATION:Europe/Paris
BEGIN:DAYLIGHT
TZOFFSETFROM:+0100
TZOFFSETTO:+0200
TZNAME:CEST
DTSTART:19700329T020000
RRULE:FREQ=YEARLY;BYMONTH=3;BYDAY=-1SU
END:DAYLIGHT
BEGIN:STANDARD
TZOFFSETFROM:+0200
TZOFFSETTO:+0100
TZNAME:CET
DTSTART:19701025T030000
RRULE:FREQ=YEARLY;BYMONTH=10;BYDAY=-1SU
END:STANDARD
END:VTIMEZONE
BEGIN:VEVENT
UID:2485226:Event:1268774
DTSTAMP:20260420T181210Z
SUMMARY:Marianne Sol'Aime... So'Eclectique ! Du 5 au 25 Mai 2013
DESCRIPTION:Exposition \"Marianne Sol'Aime... So'Eclectique !\" Ou, \"
 le Plaisir naquit un jour de la DiversitÃ© !\"\nTrois semaines d'expos
 ition ! Du 5 au 25 Mai, dans les Yvelines : CinÃ©ma Â« Le Fontenelle Â
 » (non non je ne me fais pas un film, c'est dans le hall d'accueil !),
  place de la gare Ã  Marly le Roi.  â™¥ TABLEAUX : pastels, huile, tec
 hniques mixtesâ€¦ souvent expÃ©rimental ! ScÃ¨nes de vie, planÃ¨te sau
 vage / planÃ¨te apprivoisÃ©e, portraits dâ€™humanitÃ© dâ€™ici ou dâ€™a
 illeurs, animaux (chats, loups), fantastique ou fantaisiste plutÃ´t ! 
 Pour vous faire une idÃ©e : https://www.facebook.com/pages/SolAime-SoL
 ove-Creation-et-Emotion/173909439377025  â™¥ Photos : numÃ©riques ! Mi
 nÃ©raux, nature, zoom citadins, crÃ©ativitÃ©, animaux, eauâ€¦ Pour vou
 s faire aussi une idÃ©e (le choix sera trÃ¨s drastique lÃ  !) : https:
 //www.facebook.com/solaimesolovephotografee  Des formes, des couleurs,
  des matiÃ¨resâ€¦ Un univers Ã©clectique dont lâ€™essentiel du fil con
 ducteur est dans ma curiositÃ© et lâ€™envie de partager des Ã©motions,
  des messages en laissant chacun ressentir tout cela Ã  sa faÃ§on !  S
 i vous Ãªtes dans les environs Ã  cette pÃ©riode, je vous invite Ã  pa
 sser dÃ©couvrir mes crÃ©ations ou me rencontrer (me contacter auparava
 nt, il n'y a pas de prÃ©sence prÃ©cise prÃ©vue) et Ã  diffuser lâ€™inf
 ormation si cela peut intÃ©resser certains de vos contacts et amis !  
 Ou bien, tenez... la Sol'So boutique en ligne pour les articles dispon
 ibles de suite ! Il y a un moment oÃ¹ dans le grand jeu par toujours d
 oux de la vie, vient celui de \"jouer Ã  la marchande\" !! J'aimais bi
 en Ã§a petite... je n'avais pas la pression d'en vivre mais reprenons 
 son aspect ludique alors !!! http://www.alittlemarket.com/boutique/sol
 aimesolove_creations-27625.html  So'Marianne !\n\nPour plus d'informat
 ion, aller sur https://epanews.fr/events/exposition-marianne-sol-aime-
 so-eclectique
DTSTART;TZID=Europe/Paris:20130505T000000
DTEND;TZID=Europe/Paris:20130505T235900
CATEGORIES:78
LOCATION:Marly le Roi
WEBSITE:http://www.cinema-fontenelle.fr/
URL:http://www.cinema-fontenelle.fr/
CONTACT:
ORGANIZER:Marianne Solaime
ATTACH;FMTTYPE="image/jpeg":http://storage.ning.com/topology/rest/1.0/
 file/get/1662796573?profile=original
ATTENDEE;ROLE=REQ-PARTICIPANT;PARTSTAT=ACCEPTED;RSVP=TRUE;CN=Solaime:h
 ttps://epanews.fr/profile/Solaime
END:VEVENT
END:VCALENDAR
