BEGIN:VCALENDAR
PRODID:NingEventWidget-v1
VERSION:2.0
METHOD:PUBLISH
BEGIN:VTIMEZONE
TZID:Europe/Paris
X-LIC-LOCATION:Europe/Paris
BEGIN:DAYLIGHT
TZOFFSETFROM:+0100
TZOFFSETTO:+0200
TZNAME:CEST
DTSTART:19700329T020000
RRULE:FREQ=YEARLY;BYMONTH=3;BYDAY=-1SU
END:DAYLIGHT
BEGIN:STANDARD
TZOFFSETFROM:+0200
TZOFFSETTO:+0100
TZNAME:CET
DTSTART:19701025T030000
RRULE:FREQ=YEARLY;BYMONTH=10;BYDAY=-1SU
END:STANDARD
END:VTIMEZONE
BEGIN:VEVENT
UID:2485226:Event:2316541
DTSTAMP:20260425T181509Z
SUMMARY:explorer son coeur et le laisser se dÃ©ployer
DESCRIPTION:Â Â Â Â Â Â Â Â Â Â Â Â Â Â Â Â Â Â Â Â  Ã‰VÃ‰NEMENT UNQUE
 \nÂ Â Â Â Â Â Â Â Â Â Â Â Â Â Â Â Â Â  A LYON, les 15 et 16 Mai\nÂ Â Â
  Â Â Â Â Â Â Â Â Â Â Â Â Â Â Â Â Â Â Â Â Â Â  2 confÃ©rences:\nVendred
 i 15: le potentiel du coeur\nSamedi 16: vivre pleinement Ã  partir du 
 coeur\nateliers d'expÃ©rimentation Ã  la mÃ©ditation heartfulness\nÂ Â
  Â Â  tout au long des 2 journÃ©es + dimanche matin\nÂ Â Â Â Â Â Â Â Â
  Â Â  Heartfulness%20Lyon-Flyer-fr.pdf\nÂ Â Â Â Â Â Â Â Â Â Â Â Â Â Â 
 Â Â Â Â Â Â  www.heartfulness.org\n\nPour plus d'information, aller su
 r https://epanews.fr/events/explorer-son-coeur-et-le-laisser-se-d-ploy
 er-1
DTSTART;TZID=Europe/Paris:20150515T000000
DTEND;TZID=Europe/Paris:20150518T235900
CATEGORIES:69
LOCATION:LYON
WEBSITE:
URL:
CONTACT:06 08 01 04 74
ORGANIZER:SRCM FRANCE
ATTACH;FMTTYPE="image/jpeg":
ATTENDEE;ROLE=REQ-PARTICIPANT;PARTSTAT=ACCEPTED;RSVP=TRUE;CN=jardin:ht
 tps://epanews.fr/profile/jardin407
END:VEVENT
END:VCALENDAR
