BEGIN:VCALENDAR
PRODID:NingEventWidget-v1
VERSION:2.0
METHOD:PUBLISH
BEGIN:VTIMEZONE
TZID:Europe/Paris
X-LIC-LOCATION:Europe/Paris
BEGIN:DAYLIGHT
TZOFFSETFROM:+0100
TZOFFSETTO:+0200
TZNAME:CEST
DTSTART:19700329T020000
RRULE:FREQ=YEARLY;BYMONTH=3;BYDAY=-1SU
END:DAYLIGHT
BEGIN:STANDARD
TZOFFSETFROM:+0200
TZOFFSETTO:+0100
TZNAME:CET
DTSTART:19701025T030000
RRULE:FREQ=YEARLY;BYMONTH=10;BYDAY=-1SU
END:STANDARD
END:VTIMEZONE
BEGIN:VEVENT
UID:2485226:Event:1015328
DTSTAMP:20260420T080735Z
SUMMARY:ExpÃ©rience de Relaxation dynamique
DESCRIPTION:Je vous propose de venir dÃ©couvrir la Relaxation Dynamiqu
 e de CaycedoÂ®. Cette mÃ©thode CrÃ©Ã©e par le Professeur Caycedo dans 
 les annÃ©es 60 permet de laisser Ã©merger les capacitÃ©s positives de 
 notre conscience. C'est Ã  dire de nous sentir plus prÃ©sents Ã  nous-
 mÃªmes, Ã  nos sensations, nos sentiments, nos Ã©motions, nos besoins 
 rÃ©els.  Nous sommes, le plus souvent connectÃ©s Ã  de trÃ¨s nombreux 
 stimuli extÃ©rieurs. Toutes nos activitÃ©s quotidiennes de travail et 
 occupations de plus en plus nombreuses, peuvent nous donner parfois le
  sentiment de ne pas avoir assez de temps pour tout faire et au final 
 de nous sentir coupÃ©s de lâ€™essentiel : le sentiment d'exister.  Ave
 c la Sophrologie CaycÃ©dienne nous accÃ©dons Ã  une plus grande consci
 ence de notre corps, de notre Ã©quilibre de notre posture, de notre re
 spiration, de nos sensâ€¦ Elle nous apporte Ã©galement plus de recul d
 ans les situations qui d'ordinaire seraient stressantes voir anxiogÃ¨n
 es.  La Sophrologie CaycÃ©dienne est une excellente mÃ©thode de prÃ©ve
 ntion de la santÃ©. Elle rÃ©duit de maniÃ¨re trÃ¨s significative les e
 ffets nÃ©gatifs du stress. Mais surtout elle donne accÃ¨s Ã  un niveau
  de conscience qui nous permet de nous sentir en harmonie avec nous-mÃ
 ªmes et notre environnement ainsi que de nous projeter positivement da
 ns l'existence.  La sÃ©ance sera prÃ©cÃ©dÃ©e de 15' de prÃ©sentation e
 t se terminera par un Ã©change sur l'expÃ©rience. La participation est
  de 15â‚¬  MÃ©tro Daumesnil ligne 6 et 8 Renseignements et Inscription
  au 06 49 95 95 55 Les codes dâ€™accÃ¨s vous seront transmis par SMS  
 Au plaisir de vous rencontrer !\n\nPour plus d'information, aller sur 
 https://epanews.fr/events/exp-rience-de-relaxation-dynamique
DTSTART;TZID=Europe/Paris:20121116T190000
DTEND;TZID=Europe/Paris:20121116T201500
CATEGORIES:75
LOCATION:Paris 12Ã¨
WEBSITE:http://www.sophrosune.fr
URL:http://www.sophrosune.fr
CONTACT:06 49 95 95 55
ORGANIZER:Michel GUEGUEN Sophrologue Caycedien
ATTACH;FMTTYPE="image/jpeg":http://storage.ning.com/topology/rest/1.0/
 file/get/1662676637?profile=original
ATTENDEE;ROLE=REQ-PARTICIPANT;PARTSTAT=ACCEPTED;RSVP=TRUE;CN="Michel G
 UEGUEN":https://epanews.fr/profile/GUEGUEN
END:VEVENT
END:VCALENDAR
