BEGIN:VCALENDAR
PRODID:NingEventWidget-v1
VERSION:2.0
METHOD:PUBLISH
BEGIN:VTIMEZONE
TZID:Europe/Paris
X-LIC-LOCATION:Europe/Paris
BEGIN:DAYLIGHT
TZOFFSETFROM:+0100
TZOFFSETTO:+0200
TZNAME:CEST
DTSTART:19700329T020000
RRULE:FREQ=YEARLY;BYMONTH=3;BYDAY=-1SU
END:DAYLIGHT
BEGIN:STANDARD
TZOFFSETFROM:+0200
TZOFFSETTO:+0100
TZNAME:CET
DTSTART:19701025T030000
RRULE:FREQ=YEARLY;BYMONTH=10;BYDAY=-1SU
END:STANDARD
END:VTIMEZONE
BEGIN:VEVENT
UID:2485226:Event:214516
DTSTAMP:20260420T111443Z
SUMMARY:EvÃ¨nement exceptionnel : Sudheer Roche Ã  Aix-en-Provence
DESCRIPTION:Nous sommes heureux de vous annoncer la venue deÂ  Â Â Â Â
  Â Â Â Â Â Â Â Â Â Â Â Â Â Â Â Â  Â  Â Â Â Â Â  Â  Â  Â  Â  Â  Â  Â  Â
   Â  Â  Â  Â  Â  Â  Â Â Â Â  Sudheer Roche\nqui nous fait le plaisir d
 'animer un stage de Tantra\nÂ Â Â Â Â Â Â Â Â Â Â Â Â Â Â Â Â Â Â Â Â 
 Â  Au Cours des Arts et MÃ©tiersÂ Â Â Â Â Â Â Â Â Â Â Â Â Â Â Â Â Â Â 
 Â Â Â Â Â Â Â Â  13100 Aix-en-Provence\nÂ Â Â Â Â Â Â Â Â Â Â Â Â Â Â 
 Â Â Â Â Â Â Â Â  Les 30 avril - 1 mai 2011Â Â  (Samedi de 10h Ã  22H30
  &Â  Dimanche de 9h Ã  16H30)Tarifs : Stage 160 â‚¬Â  Repas : 50 â‚¬ (
 trois repas + collations)Â Â Â Â Â Â Â Â Â Â Â Â Â Â Â  Â  Â Â  Effect
 if limitÃ© Ã  28 personnesRÃ©servation : 80 â‚¬ d'arrhesÂ Â Â Â Â Â  S
 tage non rÃ©sidentielPour en savoir plus, ci-joint le lien vers le sit
 e de SudheerÂ Â  Â  Â  Â  Â  Â  Â  Â  Â  Â  Â  Â  Â  Â  http://sudheer
 .free.fr/\nPour toute inscription et renseignement complÃ©mentaire : m
 artinenegre@free.frÂ Â Â  06 16 79 73 50maxmauro@free.frÂ Â Â Â Â Â Â 
 Â  06 61 17 00 72 Â Â Â Â Â Â Â Â Â Â Â Â Â Â Â Â Â Â Â Â Â Â Â Â Â Â 
 Â Â Â Â Â Â Â Â  Martine et Max\n\nPour plus d'information, aller sur 
 https://epanews.fr/events/evenement-exceptionnel-1
DTSTART;TZID=Europe/Paris:20110430T000000
DTEND;TZID=Europe/Paris:20110501T235900
CATEGORIES:13, 83, 84, 04, 05, 06, 07, 34
LOCATION:Aix-en-Provence
WEBSITE:
URL:
CONTACT:06 61 17 00 72 / 06 16 79 73 50
ORGANIZER;CN=Max13:https://epanews.fr/profile/Mauro
ATTACH;FMTTYPE="image/jpeg":http://storage.ning.com/topology/rest/1.0/
 file/get/1662393666?profile=original
ATTENDEE;ROLE=REQ-PARTICIPANT;PARTSTAT=ACCEPTED;RSVP=TRUE;CN=Max13:htt
 ps://epanews.fr/profile/Mauro
END:VEVENT
END:VCALENDAR
