BEGIN:VCALENDAR
PRODID:NingEventWidget-v1
VERSION:2.0
METHOD:PUBLISH
BEGIN:VTIMEZONE
TZID:Europe/Paris
X-LIC-LOCATION:Europe/Paris
BEGIN:DAYLIGHT
TZOFFSETFROM:+0100
TZOFFSETTO:+0200
TZNAME:CEST
DTSTART:19700329T020000
RRULE:FREQ=YEARLY;BYMONTH=3;BYDAY=-1SU
END:DAYLIGHT
BEGIN:STANDARD
TZOFFSETFROM:+0200
TZOFFSETTO:+0100
TZNAME:CET
DTSTART:19701025T030000
RRULE:FREQ=YEARLY;BYMONTH=10;BYDAY=-1SU
END:STANDARD
END:VTIMEZONE
BEGIN:VEVENT
UID:2485226:Event:1626103
DTSTAMP:20260424T130217Z
SUMMARY:Eveil à la Nouvelle Conscience
DESCRIPTION:En cette période d'intense évolution, il est essentiel d
 e savoir garder le cap tout en étant ouvert à ce que la Vie nous don
 ne à vivre, à expérimenter, afin d'évoluer vers une Nouvelle Consc
 ience.  Les outils de travail sur soi ne manquent pas, mais c'est surt
 out l'état d'esprit, la capacité à lâcher prise avec les anciens c
 oncepts et l'ouverture du coeur qui comptent désormais.  Ce séminair
 e animé par Patrick Giani, accompagné de son épouse Sonia, vous pro
 pose d'aborder différents sujets, tels que : les résistances, les pi
 èges du mental et de l'ego, le doute, mais aussi la non-dualité, l'a
 bandon confiant, la joie du coeur, l'état de Grâce, la Présence... 
 Une journée d'enseignement et de partages dans une ambiance convivial
 e et chaleureuse.  Lieu du stage : La Villa Lise - Route de Mende à M
 ontpellier Horaires : 9h30 à 17h30 - déjeuner dans un restaurant aux
  prix raisonnables Participation : 75 € par personne.\n\nPour plus d
 'information, aller sur https://epanews.fr/events/eveil-la-nouvelle-co
 nscience
DTSTART;TZID=Europe/Paris:20131130T093000
DTEND;TZID=Europe/Paris:20131130T173000
CATEGORIES:34
LOCATION:Montpellier
WEBSITE:http://www.giani.fr/stages_de_connaissance_soi.htm
URL:http://www.giani.fr/stages_de_connaissance_soi.htm
CONTACT:06 76 76 42 73
ORGANIZER;CN="Patrick Giani":https://epanews.fr/profile/PatrickGiani
ATTACH;FMTTYPE="image/jpeg":http://storage.ning.com/topology/rest/1.0/
 file/get/1662967427?profile=original
ATTENDEE;ROLE=REQ-PARTICIPANT;PARTSTAT=ACCEPTED;RSVP=TRUE;CN="Véroniq
 ue Roger":https://epanews.fr/profile/VeroniqueRoger
ATTENDEE;ROLE=REQ-PARTICIPANT;PARTSTAT=ACCEPTED;RSVP=TRUE;CN="Patrick 
 Giani":https://epanews.fr/profile/PatrickGiani
ATTENDEE;ROLE=REQ-PARTICIPANT;PARTSTAT=TENTATIVE;RSVP=TRUE;CN=Zenézik
 :https://epanews.fr/profile/Zenezik
END:VEVENT
END:VCALENDAR
