BEGIN:VCALENDAR
PRODID:NingEventWidget-v1
VERSION:2.0
METHOD:PUBLISH
BEGIN:VTIMEZONE
TZID:Europe/Paris
X-LIC-LOCATION:Europe/Paris
BEGIN:DAYLIGHT
TZOFFSETFROM:+0100
TZOFFSETTO:+0200
TZNAME:CEST
DTSTART:19700329T020000
RRULE:FREQ=YEARLY;BYMONTH=3;BYDAY=-1SU
END:DAYLIGHT
BEGIN:STANDARD
TZOFFSETFROM:+0200
TZOFFSETTO:+0100
TZNAME:CET
DTSTART:19701025T030000
RRULE:FREQ=YEARLY;BYMONTH=10;BYDAY=-1SU
END:STANDARD
END:VTIMEZONE
BEGIN:VEVENT
UID:2485226:Event:2346475
DTSTAMP:20260424T163110Z
SUMMARY:Evénement Gentillesse et Bienveillance
DESCRIPTION:La Présidente de l'association Gentillesse et bienveillan
 ce,  organise une semaine mondiale de la Bienveillance et de la Genti
 llesse qui se tiendra à Avignon du 26 juin au 30 juin. Si cela vous i
 ntéresse je vous transmets le lien où vous pouvez découvrir tout ce
  qui se passe pendant cette semaine. c'est écrit en anglais et en fra
 nçais. Tout le programme est dessous la vidéo. Ps: Elle accueille av
 ec plaisir tous les volontaires et l'aide de chacun qui pourront appor
 ter même un peu de leur temps pendant cette semaine. Merci de transme
 ttre à votre liste d'amis.  Le show pour les adultes est de 21, 55 eu
 ro avec un repas. Pour les moins de 30ans c'est 9, 55 avec idem un rep
 as. A réserver rapidement en  contactant cette adresse. contact@gent
 illesse-bienveillance.com voici le lien de l'indiegogo à partager à 
 tout vos contacts:  CLICK HERE to support Du Rêve à l'Action - From 
 Dream to Action  Soutenez la jeunesse à atteindre son plein POTENTIEL
  et ses REVES | Crowdfunding is a democratic way to support the fundra
 ising needs of your community. Make a contribution today!   indiegogo.
 com voici le lien de l'indiegogo à partager à tous vos contacts: htt
 ps://www.indiegogo.com/projects/du-reve-a-l-action-from-dream-to-actio
 n--2/x/11033276#/story Grosses bises\n\nPour plus d'information, aller
  sur https://epanews.fr/events/ev-nement-gentillesse-et-bienveillance
DTSTART;TZID=Europe/Paris:20150627T193000
DTEND;TZID=Europe/Paris:20150628T200000
CATEGORIES:84
LOCATION:Avignon
WEBSITE:http://www.gentillesse-bienveillance.com
URL:http://www.gentillesse-bienveillance.com
CONTACT:06 88 86 87 74
ORGANIZER;CN=Âdino:https://epanews.fr/profile/Adino
ATTACH;FMTTYPE="image/jpeg":
ATTENDEE;ROLE=REQ-PARTICIPANT;PARTSTAT=ACCEPTED;RSVP=TRUE;CN=Âdino:ht
 tps://epanews.fr/profile/Adino
END:VEVENT
END:VCALENDAR
