BEGIN:VCALENDAR
PRODID:NingEventWidget-v1
VERSION:2.0
METHOD:PUBLISH
BEGIN:VTIMEZONE
TZID:Europe/Paris
X-LIC-LOCATION:Europe/Paris
BEGIN:DAYLIGHT
TZOFFSETFROM:+0100
TZOFFSETTO:+0200
TZNAME:CEST
DTSTART:19700329T020000
RRULE:FREQ=YEARLY;BYMONTH=3;BYDAY=-1SU
END:DAYLIGHT
BEGIN:STANDARD
TZOFFSETFROM:+0200
TZOFFSETTO:+0100
TZNAME:CET
DTSTART:19701025T030000
RRULE:FREQ=YEARLY;BYMONTH=10;BYDAY=-1SU
END:STANDARD
END:VTIMEZONE
BEGIN:VEVENT
UID:2485226:Event:43386
DTSTAMP:20260424T065732Z
SUMMARY:Ãªtre en soi, Ãªtre au monde,  Nos 5 sens au rythme des saison
 s
DESCRIPTION:Pendant des millÃ©naires, les hommes ont vÃ©cu au rythme d
 es saisons, auquel ils ont adaptÃ© leurs sens et qui ponctuait leurs v
 ies.\nLe monde moderne nous Ã©loigne de la ronde des saisons et du cyc
 le naturel journalier.\nNotre vue et notre ouÃ¯e sont brouillÃ©es par 
 une surabondance de sons et dâ€™images, notre goÃ»t et notre odorat so
 nt formatÃ©s, le toucher est banniâ€¦\n\nA Kalanera, en pleine nature,
  tu as rendez-vous avec tes cinq sens.\nNous tâ€™invitons Ã  explorer 
 tes sensations en accord avec le rythme des saisons, par des mÃ©ditati
 ons, des rituels, des ballades nature, des mises en situations, des ma
 ssages, des expÃ©riences ludiquesâ€¦\nTu iras dans ton Ãªtre intÃ©rieu
 r, que tu ouvriras au monde, Ã  lâ€™espace naturel et Ã  la rencontre 
 de lâ€™autre. Ainsi, Ã  lâ€™Ã©coute de toi-mÃªme, tu pourras tâ€™imprÃ
 ©gner des Ã©nergies et des symboliques saisonniÃ¨res.\n\nAnimÃ© par Is
 ayaBelle et Claud'A Schwaar\nTarifs:\n- 180â‚¬ par personne /stage\n- 
 330â‚¬ par couple/stage\nHÃ©bergements et pension complÃ¨te compris\nS
 upplÃ©ment pour chambre individuelle.\nRemises pour inscriptions au cy
 cle.\nInscriptions par courrier, sur rÃ©ception de vos coordonnÃ©es co
 mplÃ¨tes (mail) et d'un chÃ¨que d'arrhes de 80 â‚¬ Ã  l'ordre de Schwa
 ar.\n\nNous dÃ©finirons ce que reprÃ©sente l'automne, au niveau sensor
 iel, pour chacun dâ€™entre nous. Nous irons Ã  cette rencontre en extÃ
 ©rieur majoritairement sauf si la mÃ©tÃ©o nous joue des tours.\nPrÃ©vo
 yez donc une tenue confortable et des chaussures pour lâ€™extÃ©rieur e
 n nature. Il nâ€™est pas besoin dâ€™avoir suivi les autres weekends po
 ur venir Ã  celui-ci.\n\nPour plus d'information, aller sur https://ep
 anews.fr/events/etre-en-soi-etre-au-monde-nos
DTSTART;TZID=Europe/Paris:20100918T143000
DTEND;TZID=Europe/Paris:20100919T170000
CATEGORIES:32
LOCATION:Kalanera, Gers
WEBSITE:http://www.infokala.fr/5.html
URL:http://www.infokala.fr/5.html
CONTACT:05 62 03 78 73
ORGANIZER;CN="Isabelle Schwaar":https://epanews.fr/profile/IsabelleSch
 waar
ATTACH;FMTTYPE="image/jpeg":http://storage.ning.com/topology/rest/1.0/
 file/get/1662294614?profile=original
ATTENDEE;ROLE=REQ-PARTICIPANT;PARTSTAT=ACCEPTED;RSVP=TRUE;CN="Isabelle
  Schwaar":https://epanews.fr/profile/IsabelleSchwaar
END:VEVENT
END:VCALENDAR
