BEGIN:VCALENDAR
PRODID:NingEventWidget-v1
VERSION:2.0
METHOD:PUBLISH
BEGIN:VTIMEZONE
TZID:Europe/Paris
X-LIC-LOCATION:Europe/Paris
BEGIN:DAYLIGHT
TZOFFSETFROM:+0100
TZOFFSETTO:+0200
TZNAME:CEST
DTSTART:19700329T020000
RRULE:FREQ=YEARLY;BYMONTH=3;BYDAY=-1SU
END:DAYLIGHT
BEGIN:STANDARD
TZOFFSETFROM:+0200
TZOFFSETTO:+0100
TZNAME:CET
DTSTART:19701025T030000
RRULE:FREQ=YEARLY;BYMONTH=10;BYDAY=-1SU
END:STANDARD
END:VTIMEZONE
BEGIN:VEVENT
UID:2485226:Event:1036606
DTSTAMP:20260422T063040Z
SUMMARY:Etre acteur de sa santé avec la méthode \"Santé par le Touc
 her\"
DESCRIPTION:Enthousiasmée par la méthode de bien-être global Santé
  par le Toucher et son application dans la vie de tous les jours, je p
 ropose un cycle de formation sur des week-end, le premier étant en ja
 nvier 2013. Je vous présenterai à cette occasion des outils simples
  d'utilisation nous permettant d'évacuer nos stress et d'harmoniser n
 os énergies.Santé par le Toucher c'est retrouver le pouvoir sur sa s
 anté, s'aider soi-même et pouvoir également en faire profiter son e
 ntourage! Public: adultes\nMonique Combe Kinésiologue spécialisée\
 nInstructrice TFH et TFH Métaphores  certifiée IKC\n\nPour plus d'i
 nformation, aller sur https://epanews.fr/events/etre-acteur-de-sa-sant
 -avec-la-m-thode-sant-par-le-toucher
DTSTART;TZID=Europe/Paris:20130119T090000
DTEND;TZID=Europe/Paris:20130120T180000
CATEGORIES:13
LOCATION:Marseille 11ème
WEBSITE:
URL:
CONTACT:06 75 86 04 88
ORGANIZER;CN="monique combe":https://epanews.fr/profile/moniquecombe
ATTACH;FMTTYPE="image/jpeg":http://storage.ning.com/topology/rest/1.0/
 file/get/1662701198?profile=original
ATTENDEE;ROLE=REQ-PARTICIPANT;PARTSTAT=ACCEPTED;RSVP=TRUE;CN="monique 
 combe":https://epanews.fr/profile/moniquecombe
END:VEVENT
END:VCALENDAR
