BEGIN:VCALENDAR
PRODID:NingEventWidget-v1
VERSION:2.0
METHOD:PUBLISH
BEGIN:VTIMEZONE
TZID:Europe/Paris
X-LIC-LOCATION:Europe/Paris
BEGIN:DAYLIGHT
TZOFFSETFROM:+0100
TZOFFSETTO:+0200
TZNAME:CEST
DTSTART:19700329T020000
RRULE:FREQ=YEARLY;BYMONTH=3;BYDAY=-1SU
END:DAYLIGHT
BEGIN:STANDARD
TZOFFSETFROM:+0200
TZOFFSETTO:+0100
TZNAME:CET
DTSTART:19701025T030000
RRULE:FREQ=YEARLY;BYMONTH=10;BYDAY=-1SU
END:STANDARD
END:VTIMEZONE
BEGIN:VEVENT
UID:2485226:Event:61624
DTSTAMP:20260424T020010Z
SUMMARY:Ethnic Pulse avec Philippe Lenaif, Michel Steingueldoir et Mar
 ie Verhulst
DESCRIPTION:Ethnic Pulse vous propose un concert qui se vit comme un v
 oyage musical au travers des quatre éléments. Emportés par le son d
 es didgeridoo, ocean drum, thunder drum, kalimba, djembe, conga, darbu
 ka, udu, ukulele, flûte amérindienne, bansuri, rain maker, shakere, 
 djuns, balafon, shamanic bodhran, shamanic drum… vous aurez l’occa
 sion de vivre ce concert en entrant peu à peu dans un état modifié 
 de conscience.\nUne expérience à ne pas manquer !\n\nPour plus d'inf
 ormation, aller sur https://epanews.fr/events/ethnic-pulse-avec-philip
 pe
DTSTART;TZID=Europe/Paris:20100917T203000
DTEND;TZID=Europe/Paris:20100917T220000
CATEGORIES:69
LOCATION:Lyon
WEBSITE:http://www.biodanza-paula.org/concert
URL:http://www.biodanza-paula.org/concert
CONTACT:0472368654
ORGANIZER;CN="Paula Roulin Prat":https://epanews.fr/profile/PaulaRouli
 nPrat
ATTACH;FMTTYPE="image/jpeg":http://storage.ning.com/topology/rest/1.0/
 file/get/1662299414?profile=original
ATTENDEE;ROLE=REQ-PARTICIPANT;PARTSTAT=ACCEPTED;RSVP=TRUE;CN="Paula Ro
 ulin Prat":https://epanews.fr/profile/PaulaRoulinPrat
END:VEVENT
END:VCALENDAR
