BEGIN:VCALENDAR
PRODID:NingEventWidget-v1
VERSION:2.0
METHOD:PUBLISH
BEGIN:VTIMEZONE
TZID:Europe/Paris
X-LIC-LOCATION:Europe/Paris
BEGIN:DAYLIGHT
TZOFFSETFROM:+0100
TZOFFSETTO:+0200
TZNAME:CEST
DTSTART:19700329T020000
RRULE:FREQ=YEARLY;BYMONTH=3;BYDAY=-1SU
END:DAYLIGHT
BEGIN:STANDARD
TZOFFSETFROM:+0200
TZOFFSETTO:+0100
TZNAME:CET
DTSTART:19701025T030000
RRULE:FREQ=YEARLY;BYMONTH=10;BYDAY=-1SU
END:STANDARD
END:VTIMEZONE
BEGIN:VEVENT
UID:2485226:Event:2578729
DTSTAMP:20260421T200806Z
SUMMARY:et vous, savez-vous dire Non ?
DESCRIPTION:Apprendre Ã  dire Non ou Comment sâ€™affirmer et se respon
 sabiliser dans la bienveillance\nDimanche 21 FÃ©vrier 2016 De 10 h Ã  
 18 h au Centre Reliance Ã  Echirolles\nCar communiquer sâ€™apprend : s
 avoir ce que je dÃ©sire, entendre ce que lâ€™autre dÃ©sire, oser dire 
 oui, oser dire non, se respecter soi-mÃªme,\npour respecter LA relatio
 n Ã  son mari ou sa conjointe, son enfant, sonÂ  pÃ¨re, sa mÃ¨re, sa s
 Å“ur ou son frÃ¨re, son ami(e), son collÃ¨gue, son chef, son employÃ©,
  tous ceux avec qui la vie se rÃ©trÃ©cit ou sâ€™embellit, jour aprÃ¨s 
 jour.\nStage animÃ© par Catherine Favre-Moiron Facilitatrice du change
 ment â€“ Formatrice â€“ Coach\nAtelier sur inscription uniquementÂ : 6
 0 â‚¬ adhÃ©rents â€“ 70 â‚¬ non adhÃ©rents\nLes stages Ã  venir : 3 Av
 rilÂ : Construire et agrandir la confiance en soi 24 AvrilÂ : Et si je
  sortais des maux pour aller vers les motsÂ ? ou comment la maladie pe
 ut-elle Ãªtre un langage 22 MaiÂ : Oser travailler heureux ou savoir Ã
 ªtre soi parmi les autres 26 JuinÂ : Le courage dâ€™Ãªtre soi ou comme
 nt vivre en accord avec soi-mÃªme\nÂ \n\nPour plus d'information, alle
 r sur https://epanews.fr/events/et-vous-savez-vous-dire-non
DTSTART;TZID=Europe/Paris:20160221T000000
DTEND;TZID=Europe/Paris:20160221T235900
CATEGORIES:38, 73, 26, 01, 74, 69
LOCATION:Echirolles
WEBSITE:https://www.google.fr/maps/place/14+Avenue+Victor+Hugo,+38130+
 %C3%89chirolles/@45.1533474,5.70769,17z/data=!4m2!3m1!1s0x478a8b53f2cf
 0c67:0xfb244f6ff0a9dd74
URL:https://www.google.fr/maps/place/14+Avenue+Victor+Hugo,+38130+%C3%
 89chirolles/@45.1533474,5.70769,17z/data=!4m2!3m1!1s0x478a8b53f2cf0c67
 :0xfb244f6ff0a9dd74
CONTACT:
ORGANIZER;CN=Katrine:https://epanews.fr/profile/Katrine
ATTACH;FMTTYPE="image/jpeg":http://storage.ning.com/topology/rest/1.0/
 file/get/1663527933?profile=original
ATTENDEE;ROLE=REQ-PARTICIPANT;PARTSTAT=ACCEPTED;RSVP=TRUE;CN=Katrine:h
 ttps://epanews.fr/profile/Katrine
END:VEVENT
END:VCALENDAR
