BEGIN:VCALENDAR
PRODID:NingEventWidget-v1
VERSION:2.0
METHOD:PUBLISH
BEGIN:VTIMEZONE
TZID:Europe/Paris
X-LIC-LOCATION:Europe/Paris
BEGIN:DAYLIGHT
TZOFFSETFROM:+0100
TZOFFSETTO:+0200
TZNAME:CEST
DTSTART:19700329T020000
RRULE:FREQ=YEARLY;BYMONTH=3;BYDAY=-1SU
END:DAYLIGHT
BEGIN:STANDARD
TZOFFSETFROM:+0200
TZOFFSETTO:+0100
TZNAME:CET
DTSTART:19701025T030000
RRULE:FREQ=YEARLY;BYMONTH=10;BYDAY=-1SU
END:STANDARD
END:VTIMEZONE
BEGIN:VEVENT
UID:2485226:Event:2915512
DTSTAMP:20260422T005021Z
SUMMARY:Et si on se reconcontrait pour discuter spiritualité?
DESCRIPTION:Bonjour à tous,\nEt nous voici en ce 2eme jour de 2018, j
 e vous propose de nous rencontrer afin de commencer cette nouvelle ann
 ée dans une énergie de spiritualité et d'entre aide autour d'un ver
 re dans un petit bar de quartier de Paris afin de discuter sur des suj
 ets variés de spiritualités qui nous animent tous. Ce sera l'occasio
 n d'en parler librement, sans tabous avec des personnes qui ont cette 
 ouverture, cette passion.. L'occasion aussi de rencontrer de nouvelles
  personnes et de créer un nouveau réseau dans cette affinité pour l
 ancer 2018\nce rdv est confirmé faisant appele à d'autres réseaux.\
 n\nAu plaisir de vous rencontrer.\n\nAgnès\n\nPour plus d'information
 , aller sur https://epanews.fr/events/et-si-on-se-reconcontrait-pour-d
 iscuter-spiritualit
DTSTART;TZID=Europe/Paris:20180102T190000
DTEND;TZID=Europe/Paris:20180102T220000
CATEGORIES:75
LOCATION:HYPNOSE BAR
WEBSITE:
URL:
CONTACT:06 62 60 26 08
ORGANIZER;CN=HUMBERT:https://epanews.fr/profile/HUMBERT
ATTACH;FMTTYPE="image/jpeg":http://storage.ning.com/topology/rest/1.0/
 file/get/1663707153?profile=original
ATTENDEE;ROLE=REQ-PARTICIPANT;PARTSTAT=ACCEPTED;RSVP=TRUE;CN="Christin
 e Coste":https://epanews.fr/profile/ChristineCoste
ATTENDEE;ROLE=REQ-PARTICIPANT;PARTSTAT=ACCEPTED;RSVP=TRUE;CN=HUMBERT:h
 ttps://epanews.fr/profile/HUMBERT
END:VEVENT
END:VCALENDAR
